BEGIN:VCALENDAR
VERSION:2.0
PRODID:-//hacksw/handcal//NONSGML v1.0//EN
CALSCALE:GREGORIAN
BEGIN:VTIMEZONE
TZID:Europe/Berlin
X-LIC-LOCATION:Europe/Berlin
BEGIN:DAYLIGHT
TZOFFSETFROM:+0100
TZOFFSETTO:+0200
TZNAME:CEST
DTSTART:19700329T020000
RRULE:FREQ=YEARLY;BYDAY=-1SU;BYMONTH=3
END:DAYLIGHT
BEGIN:STANDARD
TZOFFSETFROM:+0200
TZOFFSETTO:+0100
TZNAME:CET
DTSTART:19701025T030000
RRULE:FREQ=YEARLY;BYDAY=-1SU;BYMONTH=10
END:STANDARD
END:VTIMEZONE
BEGIN:VEVENT
DTEND;TZID=Europe/Berlin:20260506T190000
UID:69e81563339db
DTSTAMP:20260422T022507
LOCATION:Familienzentrum Garching\, Telschowstr. 5
DESCRIPTION:Wissen über Sinn und Ablauf von Bewegung und Training vertiefen.\r\nIndividuelle\, passende Übungen kennenlernen und im Alltag integrieren.\r\n\r\nGeeignet für :\r\n• Erwachsene\, Senioren\, Berufstätige\, Studierende\, Auszubildende\, die mehr über das Thema Bewegung wissen möchten bzw. Übungen kennenlernen möchten\r\n• Personen\, die eine Einschränkung haben und nicht genau wissen\, was und wie sie Übungen machen können.\r\n• Personen\, die wenig Bewegungs-  und Trainingserfahrung haben.\r\n\r\n4 Termine à ca. 75 Minuten mit jeweils einem Fokus Thema:\r\n1. Termin:  Beweglichkeit und Mobilität. Motivation verstehen.\r\n2. Termin:  Kraft und Stabilität. Umsetzung von Plänen verstehen.\r\n3. Termin: Koordination\, Gleichgewicht\, Gangtraining.  Motivation und Umsetzung zu erfolgreichem Handeln verbinden.\r\n2 Wochen praktische Zeit\, um Übungen in den Alltag einzubringen\r\n4. Termin: Erfahrungsaustausch\, Vertiefung und Anpassungen\r\n\r\nAblauf pro Termin: Theoretische Grundlagen\, praktische Übungen und Austausch.\r\n\r\nKursleitung: Stefanie Brayford\, Sport- und Bewegungstherapeutin\r\nwww.bewegungsmoeglichkeit.de\r\n\r\nEs besteht die Möglichkeit die Termine 1-4 einzeln zu buchen.\r\nBei Interesse meldet euch gerne per Mail oder telefonisch bei uns.\r\n
URL;VALUE=URI:https://www.unser-ferienprogramm.de/nbh-garching/veranstaltung.php?id=312643
SUMMARY:Bewegung im Alltag
DTSTART;TZID=Europe/Berlin:20260506T173000
END:VEVENT


BEGIN:VEVENT
DTEND;TZID=Europe/Berlin:20260513T190000
UID:69e8156333a131
DTSTAMP:20260422T022507
LOCATION:Familienzentrum Garching\, Telschowstr. 5
DESCRIPTION:Wissen über Sinn und Ablauf von Bewegung und Training vertiefen.\r\nIndividuelle\, passende Übungen kennenlernen und im Alltag integrieren.\r\n\r\nGeeignet für :\r\n• Erwachsene\, Senioren\, Berufstätige\, Studierende\, Auszubildende\, die mehr über das Thema Bewegung wissen möchten bzw. Übungen kennenlernen möchten\r\n• Personen\, die eine Einschränkung haben und nicht genau wissen\, was und wie sie Übungen machen können.\r\n• Personen\, die wenig Bewegungs-  und Trainingserfahrung haben.\r\n\r\n4 Termine à ca. 75 Minuten mit jeweils einem Fokus Thema:\r\n1. Termin:  Beweglichkeit und Mobilität. Motivation verstehen.\r\n2. Termin:  Kraft und Stabilität. Umsetzung von Plänen verstehen.\r\n3. Termin: Koordination\, Gleichgewicht\, Gangtraining.  Motivation und Umsetzung zu erfolgreichem Handeln verbinden.\r\n2 Wochen praktische Zeit\, um Übungen in den Alltag einzubringen\r\n4. Termin: Erfahrungsaustausch\, Vertiefung und Anpassungen\r\n\r\nAblauf pro Termin: Theoretische Grundlagen\, praktische Übungen und Austausch.\r\n\r\nKursleitung: Stefanie Brayford\, Sport- und Bewegungstherapeutin\r\nwww.bewegungsmoeglichkeit.de\r\n\r\nEs besteht die Möglichkeit die Termine 1-4 einzeln zu buchen.\r\nBei Interesse meldet euch gerne per Mail oder telefonisch bei uns.\r\n
URL;VALUE=URI:https://www.unser-ferienprogramm.de/nbh-garching/veranstaltung.php?id=312643
SUMMARY:Bewegung im Alltag
DTSTART;TZID=Europe/Berlin:20260513T173000
END:VEVENT


BEGIN:VEVENT
DTEND;TZID=Europe/Berlin:20260520T190000
UID:69e8156333a282
DTSTAMP:20260422T022507
LOCATION:Familienzentrum Garching\, Telschowstr. 5
DESCRIPTION:Wissen über Sinn und Ablauf von Bewegung und Training vertiefen.\r\nIndividuelle\, passende Übungen kennenlernen und im Alltag integrieren.\r\n\r\nGeeignet für :\r\n• Erwachsene\, Senioren\, Berufstätige\, Studierende\, Auszubildende\, die mehr über das Thema Bewegung wissen möchten bzw. Übungen kennenlernen möchten\r\n• Personen\, die eine Einschränkung haben und nicht genau wissen\, was und wie sie Übungen machen können.\r\n• Personen\, die wenig Bewegungs-  und Trainingserfahrung haben.\r\n\r\n4 Termine à ca. 75 Minuten mit jeweils einem Fokus Thema:\r\n1. Termin:  Beweglichkeit und Mobilität. Motivation verstehen.\r\n2. Termin:  Kraft und Stabilität. Umsetzung von Plänen verstehen.\r\n3. Termin: Koordination\, Gleichgewicht\, Gangtraining.  Motivation und Umsetzung zu erfolgreichem Handeln verbinden.\r\n2 Wochen praktische Zeit\, um Übungen in den Alltag einzubringen\r\n4. Termin: Erfahrungsaustausch\, Vertiefung und Anpassungen\r\n\r\nAblauf pro Termin: Theoretische Grundlagen\, praktische Übungen und Austausch.\r\n\r\nKursleitung: Stefanie Brayford\, Sport- und Bewegungstherapeutin\r\nwww.bewegungsmoeglichkeit.de\r\n\r\nEs besteht die Möglichkeit die Termine 1-4 einzeln zu buchen.\r\nBei Interesse meldet euch gerne per Mail oder telefonisch bei uns.\r\n
URL;VALUE=URI:https://www.unser-ferienprogramm.de/nbh-garching/veranstaltung.php?id=312643
SUMMARY:Bewegung im Alltag
DTSTART;TZID=Europe/Berlin:20260520T173000
END:VEVENT


BEGIN:VEVENT
DTEND;TZID=Europe/Berlin:20260610T190000
UID:69e8156333a383
DTSTAMP:20260422T022507
LOCATION:Familienzentrum Garching\, Telschowstr. 5
DESCRIPTION:Wissen über Sinn und Ablauf von Bewegung und Training vertiefen.\r\nIndividuelle\, passende Übungen kennenlernen und im Alltag integrieren.\r\n\r\nGeeignet für :\r\n• Erwachsene\, Senioren\, Berufstätige\, Studierende\, Auszubildende\, die mehr über das Thema Bewegung wissen möchten bzw. Übungen kennenlernen möchten\r\n• Personen\, die eine Einschränkung haben und nicht genau wissen\, was und wie sie Übungen machen können.\r\n• Personen\, die wenig Bewegungs-  und Trainingserfahrung haben.\r\n\r\n4 Termine à ca. 75 Minuten mit jeweils einem Fokus Thema:\r\n1. Termin:  Beweglichkeit und Mobilität. Motivation verstehen.\r\n2. Termin:  Kraft und Stabilität. Umsetzung von Plänen verstehen.\r\n3. Termin: Koordination\, Gleichgewicht\, Gangtraining.  Motivation und Umsetzung zu erfolgreichem Handeln verbinden.\r\n2 Wochen praktische Zeit\, um Übungen in den Alltag einzubringen\r\n4. Termin: Erfahrungsaustausch\, Vertiefung und Anpassungen\r\n\r\nAblauf pro Termin: Theoretische Grundlagen\, praktische Übungen und Austausch.\r\n\r\nKursleitung: Stefanie Brayford\, Sport- und Bewegungstherapeutin\r\nwww.bewegungsmoeglichkeit.de\r\n\r\nEs besteht die Möglichkeit die Termine 1-4 einzeln zu buchen.\r\nBei Interesse meldet euch gerne per Mail oder telefonisch bei uns.\r\n
URL;VALUE=URI:https://www.unser-ferienprogramm.de/nbh-garching/veranstaltung.php?id=312643
SUMMARY:Bewegung im Alltag
DTSTART;TZID=Europe/Berlin:20260610T173000
END:VEVENT

END:VCALENDAR
