BEGIN:VCALENDAR
VERSION:2.0
PRODID:-//hacksw/handcal//NONSGML v1.0//EN
CALSCALE:GREGORIAN
BEGIN:VTIMEZONE
TZID:Europe/Berlin
X-LIC-LOCATION:Europe/Berlin
BEGIN:DAYLIGHT
TZOFFSETFROM:+0100
TZOFFSETTO:+0200
TZNAME:CEST
DTSTART:19700329T020000
RRULE:FREQ=YEARLY;BYDAY=-1SU;BYMONTH=3
END:DAYLIGHT
BEGIN:STANDARD
TZOFFSETFROM:+0200
TZOFFSETTO:+0100
TZNAME:CET
DTSTART:19701025T030000
RRULE:FREQ=YEARLY;BYDAY=-1SU;BYMONTH=10
END:STANDARD
END:VTIMEZONE
BEGIN:VEVENT
DTEND;TZID=Europe/Berlin:20260601T113000
UID:69e8163055831
DTSTAMP:20260422T022832
LOCATION:Familienzentrum Garching\, Telschowstr. 5
DESCRIPTION:Hier kannst du gemeinsam die Übungen machen\, die Du von der Physiotherapie oder Ergotherapie bekommen hast\, oder von denen Du weißt \, dass sie gut tun\, sie aber zu Hause nicht machen kannst.\r\n\r\nMit fachlicher Unterstützung den Therapieerfolg steigern und die Gesundheit verbessern.\r\nMöglichkeit\, die Übungen anzupassen und zu erweitern.\r\n\r\nLeitung: Stefanie Brayford\, Sport- und Bewegungstherapeutin\, \r\nmehr Informationen unter www.bewegungsmoeglichkeit.de\r\n\r\n
URL;VALUE=URI:https://www.unser-ferienprogramm.de/nbh-garching/veranstaltung.php?id=311505
SUMMARY:Reha Club - Montag Vormittag
DTSTART;TZID=Europe/Berlin:20260601T100000
END:VEVENT


BEGIN:VEVENT
DTEND;TZID=Europe/Berlin:20260608T113000
UID:69e81630558661
DTSTAMP:20260422T022832
LOCATION:Familienzentrum Garching\, Telschowstr. 5
DESCRIPTION:Hier kannst du gemeinsam die Übungen machen\, die Du von der Physiotherapie oder Ergotherapie bekommen hast\, oder von denen Du weißt \, dass sie gut tun\, sie aber zu Hause nicht machen kannst.\r\n\r\nMit fachlicher Unterstützung den Therapieerfolg steigern und die Gesundheit verbessern.\r\nMöglichkeit\, die Übungen anzupassen und zu erweitern.\r\n\r\nLeitung: Stefanie Brayford\, Sport- und Bewegungstherapeutin\, \r\nmehr Informationen unter www.bewegungsmoeglichkeit.de\r\n\r\n
URL;VALUE=URI:https://www.unser-ferienprogramm.de/nbh-garching/veranstaltung.php?id=311505
SUMMARY:Reha Club - Montag Vormittag
DTSTART;TZID=Europe/Berlin:20260608T100000
END:VEVENT


BEGIN:VEVENT
DTEND;TZID=Europe/Berlin:20260615T113000
UID:69e81630558862
DTSTAMP:20260422T022832
LOCATION:Familienzentrum Garching\, Telschowstr. 5
DESCRIPTION:Hier kannst du gemeinsam die Übungen machen\, die Du von der Physiotherapie oder Ergotherapie bekommen hast\, oder von denen Du weißt \, dass sie gut tun\, sie aber zu Hause nicht machen kannst.\r\n\r\nMit fachlicher Unterstützung den Therapieerfolg steigern und die Gesundheit verbessern.\r\nMöglichkeit\, die Übungen anzupassen und zu erweitern.\r\n\r\nLeitung: Stefanie Brayford\, Sport- und Bewegungstherapeutin\, \r\nmehr Informationen unter www.bewegungsmoeglichkeit.de\r\n\r\n
URL;VALUE=URI:https://www.unser-ferienprogramm.de/nbh-garching/veranstaltung.php?id=311505
SUMMARY:Reha Club - Montag Vormittag
DTSTART;TZID=Europe/Berlin:20260615T100000
END:VEVENT


BEGIN:VEVENT
DTEND;TZID=Europe/Berlin:20260622T113000
UID:69e81630558913
DTSTAMP:20260422T022832
LOCATION:Familienzentrum Garching\, Telschowstr. 5
DESCRIPTION:Hier kannst du gemeinsam die Übungen machen\, die Du von der Physiotherapie oder Ergotherapie bekommen hast\, oder von denen Du weißt \, dass sie gut tun\, sie aber zu Hause nicht machen kannst.\r\n\r\nMit fachlicher Unterstützung den Therapieerfolg steigern und die Gesundheit verbessern.\r\nMöglichkeit\, die Übungen anzupassen und zu erweitern.\r\n\r\nLeitung: Stefanie Brayford\, Sport- und Bewegungstherapeutin\, \r\nmehr Informationen unter www.bewegungsmoeglichkeit.de\r\n\r\n
URL;VALUE=URI:https://www.unser-ferienprogramm.de/nbh-garching/veranstaltung.php?id=311505
SUMMARY:Reha Club - Montag Vormittag
DTSTART;TZID=Europe/Berlin:20260622T100000
END:VEVENT


BEGIN:VEVENT
DTEND;TZID=Europe/Berlin:20260629T113000
UID:69e816305589c4
DTSTAMP:20260422T022832
LOCATION:Familienzentrum Garching\, Telschowstr. 5
DESCRIPTION:Hier kannst du gemeinsam die Übungen machen\, die Du von der Physiotherapie oder Ergotherapie bekommen hast\, oder von denen Du weißt \, dass sie gut tun\, sie aber zu Hause nicht machen kannst.\r\n\r\nMit fachlicher Unterstützung den Therapieerfolg steigern und die Gesundheit verbessern.\r\nMöglichkeit\, die Übungen anzupassen und zu erweitern.\r\n\r\nLeitung: Stefanie Brayford\, Sport- und Bewegungstherapeutin\, \r\nmehr Informationen unter www.bewegungsmoeglichkeit.de\r\n\r\n
URL;VALUE=URI:https://www.unser-ferienprogramm.de/nbh-garching/veranstaltung.php?id=311505
SUMMARY:Reha Club - Montag Vormittag
DTSTART;TZID=Europe/Berlin:20260629T100000
END:VEVENT

END:VCALENDAR
