BEGIN:VCALENDAR
VERSION:2.0
PRODID:-//hacksw/handcal//NONSGML v1.0//EN
CALSCALE:GREGORIAN
BEGIN:VTIMEZONE
TZID:Europe/Berlin
X-LIC-LOCATION:Europe/Berlin
BEGIN:DAYLIGHT
TZOFFSETFROM:+0100
TZOFFSETTO:+0200
TZNAME:CEST
DTSTART:19700329T020000
RRULE:FREQ=YEARLY;BYDAY=-1SU;BYMONTH=3
END:DAYLIGHT
BEGIN:STANDARD
TZOFFSETFROM:+0200
TZOFFSETTO:+0100
TZNAME:CET
DTSTART:19701025T030000
RRULE:FREQ=YEARLY;BYDAY=-1SU;BYMONTH=10
END:STANDARD
END:VTIMEZONE
BEGIN:VEVENT
DTEND;TZID=Europe/Berlin:20260508T180000
UID:69e815db8897a
DTSTAMP:20260422T022707
LOCATION:Offener Treff
DESCRIPTION:- Spaß und Freude am Handarbeiten\r\n- Für Anfänger und Fortgeschrittene jeden Alters\r\n- Austausch über Projekte\, Material      und Techniken\r\n- Hilfe und Anleitung beim Stricken\r\n- Materialien und Projekte bitte selber mitbringen.\r\nWir bitten um Anmeldung. Aber ihr könnt auch einfach vorbeikommen!
URL;VALUE=URI:https://www.unser-ferienprogramm.de/nbh-garching/veranstaltung.php?id=311445
SUMMARY:Offener Handarbeitstreff
DTSTART;TZID=Europe/Berlin:20260508T150000
END:VEVENT

END:VCALENDAR
