BEGIN:VCALENDAR
VERSION:2.0
PRODID:-//hacksw/handcal//NONSGML v1.0//EN
CALSCALE:GREGORIAN
BEGIN:VTIMEZONE
TZID:Europe/Berlin
X-LIC-LOCATION:Europe/Berlin
BEGIN:DAYLIGHT
TZOFFSETFROM:+0100
TZOFFSETTO:+0200
TZNAME:CEST
DTSTART:19700329T020000
RRULE:FREQ=YEARLY;BYDAY=-1SU;BYMONTH=3
END:DAYLIGHT
BEGIN:STANDARD
TZOFFSETFROM:+0200
TZOFFSETTO:+0100
TZNAME:CET
DTSTART:19701025T030000
RRULE:FREQ=YEARLY;BYDAY=-1SU;BYMONTH=10
END:STANDARD
END:VTIMEZONE
BEGIN:VEVENT
DTEND;TZID=Europe/Berlin:20260429T164500
UID:69e81581de554
DTSTAMP:20260422T022537
LOCATION:Familienzentrum
DESCRIPTION:Familienwerkstatt 2-5 Jahre mit Begleitung\r\n\r\nKursleitung: Sarah Stählin\, Ergotherapeutin & Sozialpädagogin\r\n\r\nHeute gestalten wir ein kreatives Blumentöpfe\r\nDer Kurs ist ideal\, um deine Wahrnehmung und Konzentration zu fördern. In diesem einzigartigen Kurs kannst du deiner Kreativität und Fantasie freien Lauf lassen! Alle Materialien sind in der Kursgebühr enthalten. \r\n\r\nBitte mitbringen: alte Kleidung\r\n\r\n
URL;VALUE=URI:https://www.unser-ferienprogramm.de/nbh-garching/veranstaltung.php?id=306178
SUMMARY:Familienwerkstatt Blumentopf April
DTSTART;TZID=Europe/Berlin:20260429T160000
END:VEVENT

END:VCALENDAR
