BEGIN:VCALENDAR
VERSION:2.0
PRODID:-//hacksw/handcal//NONSGML v1.0//EN
CALSCALE:GREGORIAN
BEGIN:VTIMEZONE
TZID:Europe/Berlin
X-LIC-LOCATION:Europe/Berlin
BEGIN:DAYLIGHT
TZOFFSETFROM:+0100
TZOFFSETTO:+0200
TZNAME:CEST
DTSTART:19700329T020000
RRULE:FREQ=YEARLY;BYDAY=-1SU;BYMONTH=3
END:DAYLIGHT
BEGIN:STANDARD
TZOFFSETFROM:+0200
TZOFFSETTO:+0100
TZNAME:CET
DTSTART:19701025T030000
RRULE:FREQ=YEARLY;BYDAY=-1SU;BYMONTH=10
END:STANDARD
END:VTIMEZONE
BEGIN:VEVENT
DTEND;TZID=Europe/Berlin:20260429T174500
UID:69e81597dbca7
DTSTAMP:20260422T022559
LOCATION:Familienzentrum Garching
DESCRIPTION:Kinderwerkstatt 5-10 Jahre ohne Begleitung\r\n\r\nKursleitung: Sarah Stählin\, Ergotherapeutin & Sozialpädagogin\r\n\r\nGestalte deinen eigenen bunten Blumentopf\, ganz nach deiner Fantasie.\r\nUmgang mit Pinsel\, Stoffen und Stoffmalfarben.\r\nMehr Kreativität\, Geduld und Selbstständigkeit. \r\nSoziales Miteinander in der Gruppe.\r\n\r\nBitte mitbringen: alte Kleidung\r\n\r\n
URL;VALUE=URI:https://www.unser-ferienprogramm.de/nbh-garching/veranstaltung.php?id=306148
SUMMARY: Kinderwerkstatt Blumentopf April
DTSTART;TZID=Europe/Berlin:20260429T170000
END:VEVENT

END:VCALENDAR
