BEGIN:VCALENDAR
VERSION:2.0
PRODID:-//hacksw/handcal//NONSGML v1.0//EN
CALSCALE:GREGORIAN
BEGIN:VTIMEZONE
TZID:Europe/Berlin
X-LIC-LOCATION:Europe/Berlin
BEGIN:DAYLIGHT
TZOFFSETFROM:+0100
TZOFFSETTO:+0200
TZNAME:CEST
DTSTART:19700329T020000
RRULE:FREQ=YEARLY;BYDAY=-1SU;BYMONTH=3
END:DAYLIGHT
BEGIN:STANDARD
TZOFFSETFROM:+0200
TZOFFSETTO:+0100
TZNAME:CET
DTSTART:19701025T030000
RRULE:FREQ=YEARLY;BYDAY=-1SU;BYMONTH=10
END:STANDARD
END:VTIMEZONE
BEGIN:VEVENT
DTEND;TZID=Europe/Berlin:20260519T114500
UID:69e815dbcb531
DTSTAMP:20260422T022707
LOCATION:Familienzentrum Garching\, Telschowstr. 5
DESCRIPTION:JEDE(R) ist willkommen\, ob Senioren\, Mütter oder Väter mit oder ohne Kind. Ich freue mich über ein gemischtes Publikum.\r\nWir üben einfache Übungen\, die man auch zuhause gut ausführen kann\, in entspannter und freundlicher Atmosphäre.\r\nIndividuelle Korrekturen.\r\n\r\nKursleitung: Lena Vieweg\, Tanzpädagogin
URL;VALUE=URI:https://www.unser-ferienprogramm.de/nbh-garching/veranstaltung.php?id=305598
SUMMARY:  Fitness am Vormittag - Gemeinsam fit bleiben
DTSTART;TZID=Europe/Berlin:20260519T110000
END:VEVENT

END:VCALENDAR
