BEGIN:VCALENDAR
VERSION:2.0
PRODID:-//hacksw/handcal//NONSGML v1.0//EN
CALSCALE:GREGORIAN
BEGIN:VTIMEZONE
TZID:Europe/Berlin
X-LIC-LOCATION:Europe/Berlin
BEGIN:DAYLIGHT
TZOFFSETFROM:+0100
TZOFFSETTO:+0200
TZNAME:CEST
DTSTART:19700329T020000
RRULE:FREQ=YEARLY;BYDAY=-1SU;BYMONTH=3
END:DAYLIGHT
BEGIN:STANDARD
TZOFFSETFROM:+0200
TZOFFSETTO:+0100
TZNAME:CET
DTSTART:19701025T030000
RRULE:FREQ=YEARLY;BYDAY=-1SU;BYMONTH=10
END:STANDARD
END:VTIMEZONE
BEGIN:VEVENT
DTEND;TZID=Europe/Berlin:20260415T121500
UID:69e7ff8f84423
DTSTAMP:20260422T005159
LOCATION:Familienzentrum Garching\, Telschowstr. 5
DESCRIPTION:Spiel- und Bewegungsanregungen für Babys im ersten Lebensjahr\r\n(Mai  - August 2025 geboren)\r\n\r\nDas Prager-Eltern-Kind-Programm (PEKiP) des Psychologen Jaroslav Koch basiert auf vielfältigen Spiel- und Bewegungsanregungen\, mit denen Eltern ihre Babys im ersten Lebensjahr spielerisch und ganz ohne Leistungserwartung begleiten können. \r\n\r\nZiel von PEKIP ist es\, Eltern und ihr Baby im sensiblen Prozess des Zueinanderfindens zu unterstützen\, um\r\n- das Baby in seiner seiner Entwicklung wahrzunehmen\, zu begleiten und zu unterstützen\,\r\n- die Beziehung zwischen Eltern und Baby zu stärken und zu vertiefen\,\r\n- dem Baby erste soziale Kontakte zu Gleichaltrigen zu ermöglichen\,\r\n- Eltern in dieser Lebensphase des Babys zu begleiten und den Erfahrungsaustausch sowie den Kontakt der Eltern untereinander zu fördern.\r\n\r\nDie PEKiP-Gruppe setzt sich aus 6 - 8 Erwachsenen und deren gleichaltrigen Babys sowie einer PEKiP-Gruppenleiterin zusammen. \r\n\r\nDie Treffen finden in einem warmen\, gut beheizten Raum statt. Die Babys sind während der Spielzeit nackt und windelfrei. Dadurch können die Säuglinge mit Freude ihren Bewegungsdrang ausleben. Sie agieren freier\, spontaner und intensiver und können den Hautkontakt zu den Eltern genießen. \r\n\r\nLeitung: Daniela Hagn\, PEKiP-Leiterin und Erzieherin
URL;VALUE=URI:https://www.unser-ferienprogramm.de/nbh-garching/veranstaltung.php?id=305458
SUMMARY: PEKiP *05-08/25
DTSTART;TZID=Europe/Berlin:20260415T104500
END:VEVENT


BEGIN:VEVENT
DTEND;TZID=Europe/Berlin:20260422T121500
UID:69e7ff8f8446c1
DTSTAMP:20260422T005159
LOCATION:Familienzentrum Garching\, Telschowstr. 5
DESCRIPTION:Spiel- und Bewegungsanregungen für Babys im ersten Lebensjahr\r\n(Mai  - August 2025 geboren)\r\n\r\nDas Prager-Eltern-Kind-Programm (PEKiP) des Psychologen Jaroslav Koch basiert auf vielfältigen Spiel- und Bewegungsanregungen\, mit denen Eltern ihre Babys im ersten Lebensjahr spielerisch und ganz ohne Leistungserwartung begleiten können. \r\n\r\nZiel von PEKIP ist es\, Eltern und ihr Baby im sensiblen Prozess des Zueinanderfindens zu unterstützen\, um\r\n- das Baby in seiner seiner Entwicklung wahrzunehmen\, zu begleiten und zu unterstützen\,\r\n- die Beziehung zwischen Eltern und Baby zu stärken und zu vertiefen\,\r\n- dem Baby erste soziale Kontakte zu Gleichaltrigen zu ermöglichen\,\r\n- Eltern in dieser Lebensphase des Babys zu begleiten und den Erfahrungsaustausch sowie den Kontakt der Eltern untereinander zu fördern.\r\n\r\nDie PEKiP-Gruppe setzt sich aus 6 - 8 Erwachsenen und deren gleichaltrigen Babys sowie einer PEKiP-Gruppenleiterin zusammen. \r\n\r\nDie Treffen finden in einem warmen\, gut beheizten Raum statt. Die Babys sind während der Spielzeit nackt und windelfrei. Dadurch können die Säuglinge mit Freude ihren Bewegungsdrang ausleben. Sie agieren freier\, spontaner und intensiver und können den Hautkontakt zu den Eltern genießen. \r\n\r\nLeitung: Daniela Hagn\, PEKiP-Leiterin und Erzieherin
URL;VALUE=URI:https://www.unser-ferienprogramm.de/nbh-garching/veranstaltung.php?id=305458
SUMMARY: PEKiP *05-08/25
DTSTART;TZID=Europe/Berlin:20260422T104500
END:VEVENT


BEGIN:VEVENT
DTEND;TZID=Europe/Berlin:20260506T121500
UID:69e7ff8f844802
DTSTAMP:20260422T005159
LOCATION:Familienzentrum Garching\, Telschowstr. 5
DESCRIPTION:Spiel- und Bewegungsanregungen für Babys im ersten Lebensjahr\r\n(Mai  - August 2025 geboren)\r\n\r\nDas Prager-Eltern-Kind-Programm (PEKiP) des Psychologen Jaroslav Koch basiert auf vielfältigen Spiel- und Bewegungsanregungen\, mit denen Eltern ihre Babys im ersten Lebensjahr spielerisch und ganz ohne Leistungserwartung begleiten können. \r\n\r\nZiel von PEKIP ist es\, Eltern und ihr Baby im sensiblen Prozess des Zueinanderfindens zu unterstützen\, um\r\n- das Baby in seiner seiner Entwicklung wahrzunehmen\, zu begleiten und zu unterstützen\,\r\n- die Beziehung zwischen Eltern und Baby zu stärken und zu vertiefen\,\r\n- dem Baby erste soziale Kontakte zu Gleichaltrigen zu ermöglichen\,\r\n- Eltern in dieser Lebensphase des Babys zu begleiten und den Erfahrungsaustausch sowie den Kontakt der Eltern untereinander zu fördern.\r\n\r\nDie PEKiP-Gruppe setzt sich aus 6 - 8 Erwachsenen und deren gleichaltrigen Babys sowie einer PEKiP-Gruppenleiterin zusammen. \r\n\r\nDie Treffen finden in einem warmen\, gut beheizten Raum statt. Die Babys sind während der Spielzeit nackt und windelfrei. Dadurch können die Säuglinge mit Freude ihren Bewegungsdrang ausleben. Sie agieren freier\, spontaner und intensiver und können den Hautkontakt zu den Eltern genießen. \r\n\r\nLeitung: Daniela Hagn\, PEKiP-Leiterin und Erzieherin
URL;VALUE=URI:https://www.unser-ferienprogramm.de/nbh-garching/veranstaltung.php?id=305458
SUMMARY: PEKiP *05-08/25
DTSTART;TZID=Europe/Berlin:20260506T104500
END:VEVENT


BEGIN:VEVENT
DTEND;TZID=Europe/Berlin:20260513T121500
UID:69e7ff8f844903
DTSTAMP:20260422T005159
LOCATION:Familienzentrum Garching\, Telschowstr. 5
DESCRIPTION:Spiel- und Bewegungsanregungen für Babys im ersten Lebensjahr\r\n(Mai  - August 2025 geboren)\r\n\r\nDas Prager-Eltern-Kind-Programm (PEKiP) des Psychologen Jaroslav Koch basiert auf vielfältigen Spiel- und Bewegungsanregungen\, mit denen Eltern ihre Babys im ersten Lebensjahr spielerisch und ganz ohne Leistungserwartung begleiten können. \r\n\r\nZiel von PEKIP ist es\, Eltern und ihr Baby im sensiblen Prozess des Zueinanderfindens zu unterstützen\, um\r\n- das Baby in seiner seiner Entwicklung wahrzunehmen\, zu begleiten und zu unterstützen\,\r\n- die Beziehung zwischen Eltern und Baby zu stärken und zu vertiefen\,\r\n- dem Baby erste soziale Kontakte zu Gleichaltrigen zu ermöglichen\,\r\n- Eltern in dieser Lebensphase des Babys zu begleiten und den Erfahrungsaustausch sowie den Kontakt der Eltern untereinander zu fördern.\r\n\r\nDie PEKiP-Gruppe setzt sich aus 6 - 8 Erwachsenen und deren gleichaltrigen Babys sowie einer PEKiP-Gruppenleiterin zusammen. \r\n\r\nDie Treffen finden in einem warmen\, gut beheizten Raum statt. Die Babys sind während der Spielzeit nackt und windelfrei. Dadurch können die Säuglinge mit Freude ihren Bewegungsdrang ausleben. Sie agieren freier\, spontaner und intensiver und können den Hautkontakt zu den Eltern genießen. \r\n\r\nLeitung: Daniela Hagn\, PEKiP-Leiterin und Erzieherin
URL;VALUE=URI:https://www.unser-ferienprogramm.de/nbh-garching/veranstaltung.php?id=305458
SUMMARY: PEKiP *05-08/25
DTSTART;TZID=Europe/Berlin:20260513T104500
END:VEVENT


BEGIN:VEVENT
DTEND;TZID=Europe/Berlin:20260520T121500
UID:69e7ff8f8449f4
DTSTAMP:20260422T005159
LOCATION:Familienzentrum Garching\, Telschowstr. 5
DESCRIPTION:Spiel- und Bewegungsanregungen für Babys im ersten Lebensjahr\r\n(Mai  - August 2025 geboren)\r\n\r\nDas Prager-Eltern-Kind-Programm (PEKiP) des Psychologen Jaroslav Koch basiert auf vielfältigen Spiel- und Bewegungsanregungen\, mit denen Eltern ihre Babys im ersten Lebensjahr spielerisch und ganz ohne Leistungserwartung begleiten können. \r\n\r\nZiel von PEKIP ist es\, Eltern und ihr Baby im sensiblen Prozess des Zueinanderfindens zu unterstützen\, um\r\n- das Baby in seiner seiner Entwicklung wahrzunehmen\, zu begleiten und zu unterstützen\,\r\n- die Beziehung zwischen Eltern und Baby zu stärken und zu vertiefen\,\r\n- dem Baby erste soziale Kontakte zu Gleichaltrigen zu ermöglichen\,\r\n- Eltern in dieser Lebensphase des Babys zu begleiten und den Erfahrungsaustausch sowie den Kontakt der Eltern untereinander zu fördern.\r\n\r\nDie PEKiP-Gruppe setzt sich aus 6 - 8 Erwachsenen und deren gleichaltrigen Babys sowie einer PEKiP-Gruppenleiterin zusammen. \r\n\r\nDie Treffen finden in einem warmen\, gut beheizten Raum statt. Die Babys sind während der Spielzeit nackt und windelfrei. Dadurch können die Säuglinge mit Freude ihren Bewegungsdrang ausleben. Sie agieren freier\, spontaner und intensiver und können den Hautkontakt zu den Eltern genießen. \r\n\r\nLeitung: Daniela Hagn\, PEKiP-Leiterin und Erzieherin
URL;VALUE=URI:https://www.unser-ferienprogramm.de/nbh-garching/veranstaltung.php?id=305458
SUMMARY: PEKiP *05-08/25
DTSTART;TZID=Europe/Berlin:20260520T104500
END:VEVENT


BEGIN:VEVENT
DTEND;TZID=Europe/Berlin:20260527T121500
UID:69e7ff8f844ad5
DTSTAMP:20260422T005159
LOCATION:Familienzentrum Garching\, Telschowstr. 5
DESCRIPTION:Spiel- und Bewegungsanregungen für Babys im ersten Lebensjahr\r\n(Mai  - August 2025 geboren)\r\n\r\nDas Prager-Eltern-Kind-Programm (PEKiP) des Psychologen Jaroslav Koch basiert auf vielfältigen Spiel- und Bewegungsanregungen\, mit denen Eltern ihre Babys im ersten Lebensjahr spielerisch und ganz ohne Leistungserwartung begleiten können. \r\n\r\nZiel von PEKIP ist es\, Eltern und ihr Baby im sensiblen Prozess des Zueinanderfindens zu unterstützen\, um\r\n- das Baby in seiner seiner Entwicklung wahrzunehmen\, zu begleiten und zu unterstützen\,\r\n- die Beziehung zwischen Eltern und Baby zu stärken und zu vertiefen\,\r\n- dem Baby erste soziale Kontakte zu Gleichaltrigen zu ermöglichen\,\r\n- Eltern in dieser Lebensphase des Babys zu begleiten und den Erfahrungsaustausch sowie den Kontakt der Eltern untereinander zu fördern.\r\n\r\nDie PEKiP-Gruppe setzt sich aus 6 - 8 Erwachsenen und deren gleichaltrigen Babys sowie einer PEKiP-Gruppenleiterin zusammen. \r\n\r\nDie Treffen finden in einem warmen\, gut beheizten Raum statt. Die Babys sind während der Spielzeit nackt und windelfrei. Dadurch können die Säuglinge mit Freude ihren Bewegungsdrang ausleben. Sie agieren freier\, spontaner und intensiver und können den Hautkontakt zu den Eltern genießen. \r\n\r\nLeitung: Daniela Hagn\, PEKiP-Leiterin und Erzieherin
URL;VALUE=URI:https://www.unser-ferienprogramm.de/nbh-garching/veranstaltung.php?id=305458
SUMMARY: PEKiP *05-08/25
DTSTART;TZID=Europe/Berlin:20260527T104500
END:VEVENT


BEGIN:VEVENT
DTEND;TZID=Europe/Berlin:20260603T121500
UID:69e7ff8f844bc6
DTSTAMP:20260422T005159
LOCATION:Familienzentrum Garching\, Telschowstr. 5
DESCRIPTION:Spiel- und Bewegungsanregungen für Babys im ersten Lebensjahr\r\n(Mai  - August 2025 geboren)\r\n\r\nDas Prager-Eltern-Kind-Programm (PEKiP) des Psychologen Jaroslav Koch basiert auf vielfältigen Spiel- und Bewegungsanregungen\, mit denen Eltern ihre Babys im ersten Lebensjahr spielerisch und ganz ohne Leistungserwartung begleiten können. \r\n\r\nZiel von PEKIP ist es\, Eltern und ihr Baby im sensiblen Prozess des Zueinanderfindens zu unterstützen\, um\r\n- das Baby in seiner seiner Entwicklung wahrzunehmen\, zu begleiten und zu unterstützen\,\r\n- die Beziehung zwischen Eltern und Baby zu stärken und zu vertiefen\,\r\n- dem Baby erste soziale Kontakte zu Gleichaltrigen zu ermöglichen\,\r\n- Eltern in dieser Lebensphase des Babys zu begleiten und den Erfahrungsaustausch sowie den Kontakt der Eltern untereinander zu fördern.\r\n\r\nDie PEKiP-Gruppe setzt sich aus 6 - 8 Erwachsenen und deren gleichaltrigen Babys sowie einer PEKiP-Gruppenleiterin zusammen. \r\n\r\nDie Treffen finden in einem warmen\, gut beheizten Raum statt. Die Babys sind während der Spielzeit nackt und windelfrei. Dadurch können die Säuglinge mit Freude ihren Bewegungsdrang ausleben. Sie agieren freier\, spontaner und intensiver und können den Hautkontakt zu den Eltern genießen. \r\n\r\nLeitung: Daniela Hagn\, PEKiP-Leiterin und Erzieherin
URL;VALUE=URI:https://www.unser-ferienprogramm.de/nbh-garching/veranstaltung.php?id=305458
SUMMARY: PEKiP *05-08/25
DTSTART;TZID=Europe/Berlin:20260603T104500
END:VEVENT


BEGIN:VEVENT
DTEND;TZID=Europe/Berlin:20260610T121500
UID:69e7ff8f844ca7
DTSTAMP:20260422T005159
LOCATION:Familienzentrum Garching\, Telschowstr. 5
DESCRIPTION:Spiel- und Bewegungsanregungen für Babys im ersten Lebensjahr\r\n(Mai  - August 2025 geboren)\r\n\r\nDas Prager-Eltern-Kind-Programm (PEKiP) des Psychologen Jaroslav Koch basiert auf vielfältigen Spiel- und Bewegungsanregungen\, mit denen Eltern ihre Babys im ersten Lebensjahr spielerisch und ganz ohne Leistungserwartung begleiten können. \r\n\r\nZiel von PEKIP ist es\, Eltern und ihr Baby im sensiblen Prozess des Zueinanderfindens zu unterstützen\, um\r\n- das Baby in seiner seiner Entwicklung wahrzunehmen\, zu begleiten und zu unterstützen\,\r\n- die Beziehung zwischen Eltern und Baby zu stärken und zu vertiefen\,\r\n- dem Baby erste soziale Kontakte zu Gleichaltrigen zu ermöglichen\,\r\n- Eltern in dieser Lebensphase des Babys zu begleiten und den Erfahrungsaustausch sowie den Kontakt der Eltern untereinander zu fördern.\r\n\r\nDie PEKiP-Gruppe setzt sich aus 6 - 8 Erwachsenen und deren gleichaltrigen Babys sowie einer PEKiP-Gruppenleiterin zusammen. \r\n\r\nDie Treffen finden in einem warmen\, gut beheizten Raum statt. Die Babys sind während der Spielzeit nackt und windelfrei. Dadurch können die Säuglinge mit Freude ihren Bewegungsdrang ausleben. Sie agieren freier\, spontaner und intensiver und können den Hautkontakt zu den Eltern genießen. \r\n\r\nLeitung: Daniela Hagn\, PEKiP-Leiterin und Erzieherin
URL;VALUE=URI:https://www.unser-ferienprogramm.de/nbh-garching/veranstaltung.php?id=305458
SUMMARY: PEKiP *05-08/25
DTSTART;TZID=Europe/Berlin:20260610T104500
END:VEVENT


BEGIN:VEVENT
DTEND;TZID=Europe/Berlin:20260617T121500
UID:69e7ff8f844d98
DTSTAMP:20260422T005159
LOCATION:Familienzentrum Garching\, Telschowstr. 5
DESCRIPTION:Spiel- und Bewegungsanregungen für Babys im ersten Lebensjahr\r\n(Mai  - August 2025 geboren)\r\n\r\nDas Prager-Eltern-Kind-Programm (PEKiP) des Psychologen Jaroslav Koch basiert auf vielfältigen Spiel- und Bewegungsanregungen\, mit denen Eltern ihre Babys im ersten Lebensjahr spielerisch und ganz ohne Leistungserwartung begleiten können. \r\n\r\nZiel von PEKIP ist es\, Eltern und ihr Baby im sensiblen Prozess des Zueinanderfindens zu unterstützen\, um\r\n- das Baby in seiner seiner Entwicklung wahrzunehmen\, zu begleiten und zu unterstützen\,\r\n- die Beziehung zwischen Eltern und Baby zu stärken und zu vertiefen\,\r\n- dem Baby erste soziale Kontakte zu Gleichaltrigen zu ermöglichen\,\r\n- Eltern in dieser Lebensphase des Babys zu begleiten und den Erfahrungsaustausch sowie den Kontakt der Eltern untereinander zu fördern.\r\n\r\nDie PEKiP-Gruppe setzt sich aus 6 - 8 Erwachsenen und deren gleichaltrigen Babys sowie einer PEKiP-Gruppenleiterin zusammen. \r\n\r\nDie Treffen finden in einem warmen\, gut beheizten Raum statt. Die Babys sind während der Spielzeit nackt und windelfrei. Dadurch können die Säuglinge mit Freude ihren Bewegungsdrang ausleben. Sie agieren freier\, spontaner und intensiver und können den Hautkontakt zu den Eltern genießen. \r\n\r\nLeitung: Daniela Hagn\, PEKiP-Leiterin und Erzieherin
URL;VALUE=URI:https://www.unser-ferienprogramm.de/nbh-garching/veranstaltung.php?id=305458
SUMMARY: PEKiP *05-08/25
DTSTART;TZID=Europe/Berlin:20260617T104500
END:VEVENT


BEGIN:VEVENT
DTEND;TZID=Europe/Berlin:20260624T121500
UID:69e7ff8f844e99
DTSTAMP:20260422T005159
LOCATION:Familienzentrum Garching\, Telschowstr. 5
DESCRIPTION:Spiel- und Bewegungsanregungen für Babys im ersten Lebensjahr\r\n(Mai  - August 2025 geboren)\r\n\r\nDas Prager-Eltern-Kind-Programm (PEKiP) des Psychologen Jaroslav Koch basiert auf vielfältigen Spiel- und Bewegungsanregungen\, mit denen Eltern ihre Babys im ersten Lebensjahr spielerisch und ganz ohne Leistungserwartung begleiten können. \r\n\r\nZiel von PEKIP ist es\, Eltern und ihr Baby im sensiblen Prozess des Zueinanderfindens zu unterstützen\, um\r\n- das Baby in seiner seiner Entwicklung wahrzunehmen\, zu begleiten und zu unterstützen\,\r\n- die Beziehung zwischen Eltern und Baby zu stärken und zu vertiefen\,\r\n- dem Baby erste soziale Kontakte zu Gleichaltrigen zu ermöglichen\,\r\n- Eltern in dieser Lebensphase des Babys zu begleiten und den Erfahrungsaustausch sowie den Kontakt der Eltern untereinander zu fördern.\r\n\r\nDie PEKiP-Gruppe setzt sich aus 6 - 8 Erwachsenen und deren gleichaltrigen Babys sowie einer PEKiP-Gruppenleiterin zusammen. \r\n\r\nDie Treffen finden in einem warmen\, gut beheizten Raum statt. Die Babys sind während der Spielzeit nackt und windelfrei. Dadurch können die Säuglinge mit Freude ihren Bewegungsdrang ausleben. Sie agieren freier\, spontaner und intensiver und können den Hautkontakt zu den Eltern genießen. \r\n\r\nLeitung: Daniela Hagn\, PEKiP-Leiterin und Erzieherin
URL;VALUE=URI:https://www.unser-ferienprogramm.de/nbh-garching/veranstaltung.php?id=305458
SUMMARY: PEKiP *05-08/25
DTSTART;TZID=Europe/Berlin:20260624T104500
END:VEVENT

END:VCALENDAR
