BEGIN:VCALENDAR
VERSION:2.0
PRODID:-//hacksw/handcal//NONSGML v1.0//EN
CALSCALE:GREGORIAN
BEGIN:VTIMEZONE
TZID:Europe/Berlin
X-LIC-LOCATION:Europe/Berlin
BEGIN:DAYLIGHT
TZOFFSETFROM:+0100
TZOFFSETTO:+0200
TZNAME:CEST
DTSTART:19700329T020000
RRULE:FREQ=YEARLY;BYDAY=-1SU;BYMONTH=3
END:DAYLIGHT
BEGIN:STANDARD
TZOFFSETFROM:+0200
TZOFFSETTO:+0100
TZNAME:CET
DTSTART:19701025T030000
RRULE:FREQ=YEARLY;BYDAY=-1SU;BYMONTH=10
END:STANDARD
END:VTIMEZONE
BEGIN:VEVENT
DTEND;TZID=Europe/Berlin:20260415T103000
UID:69e7ffe06e4cb
DTSTAMP:20260422T005320
LOCATION:Familienzentrum Garching\, Telschowstr. 5
DESCRIPTION:Spiel- und Bewegungsanregungen für Babys im ersten Lebensjahr\r\n(September - Dezember 2025 geboren)\r\n\r\nDas Prager-Eltern-Kind-Programm (PEKiP) des Psychologen Jaroslav Koch basiert auf vielfältigen Spiel- und Bewegungsanregungen\, mit denen Eltern ihre Babys im ersten Lebensjahr spielerisch und ganz ohne Leistungserwartung begleiten können. \r\n\r\nZiel von PEKIP ist es\, Eltern und ihr Baby im sensiblen Prozess des Zueinanderfindens zu unterstützen\, um\r\n- das Baby in seiner seiner Entwicklung wahrzunehmen\, zu begleiten und zu unterstützen\,\r\n- die Beziehung zwischen Eltern und Baby zu stärken und zu vertiefen\,\r\n- dem Baby erste soziale Kontakte zu Gleichaltrigen zu ermöglichen\,\r\n- Eltern in dieser Lebensphase des Babys zu begleiten und den Erfahrungsaustausch sowie den Kontakt der Eltern untereinander zu fördern.\r\n\r\nDie PEKiP-Gruppe setzt sich aus 6 - 8 Erwachsenen und deren gleichaltrigen Babys sowie einer PEKiP-Gruppenleiterin zusammen. \r\n\r\nDie Treffen finden in einem warmen\, gut beheizten Raum statt. Die Babys sind während der Spielzeit nackt und windelfrei. Dadurch können die Säuglinge mit Freude ihren Bewegungsdrang ausleben. Sie agieren freier\, spontaner und intensiver und können den Hautkontakt zu den Eltern genießen. \r\n\r\nLeitung: Daniela Hagn\, PEKiP-Leiterin und Erzieherin
URL;VALUE=URI:https://www.unser-ferienprogramm.de/nbh-garching/veranstaltung.php?id=305453
SUMMARY: PEKiP *9-12.25
DTSTART;TZID=Europe/Berlin:20260415T090000
END:VEVENT


BEGIN:VEVENT
DTEND;TZID=Europe/Berlin:20260422T103000
UID:69e7ffe06e5091
DTSTAMP:20260422T005320
LOCATION:Familienzentrum Garching\, Telschowstr. 5
DESCRIPTION:Spiel- und Bewegungsanregungen für Babys im ersten Lebensjahr\r\n(September - Dezember 2025 geboren)\r\n\r\nDas Prager-Eltern-Kind-Programm (PEKiP) des Psychologen Jaroslav Koch basiert auf vielfältigen Spiel- und Bewegungsanregungen\, mit denen Eltern ihre Babys im ersten Lebensjahr spielerisch und ganz ohne Leistungserwartung begleiten können. \r\n\r\nZiel von PEKIP ist es\, Eltern und ihr Baby im sensiblen Prozess des Zueinanderfindens zu unterstützen\, um\r\n- das Baby in seiner seiner Entwicklung wahrzunehmen\, zu begleiten und zu unterstützen\,\r\n- die Beziehung zwischen Eltern und Baby zu stärken und zu vertiefen\,\r\n- dem Baby erste soziale Kontakte zu Gleichaltrigen zu ermöglichen\,\r\n- Eltern in dieser Lebensphase des Babys zu begleiten und den Erfahrungsaustausch sowie den Kontakt der Eltern untereinander zu fördern.\r\n\r\nDie PEKiP-Gruppe setzt sich aus 6 - 8 Erwachsenen und deren gleichaltrigen Babys sowie einer PEKiP-Gruppenleiterin zusammen. \r\n\r\nDie Treffen finden in einem warmen\, gut beheizten Raum statt. Die Babys sind während der Spielzeit nackt und windelfrei. Dadurch können die Säuglinge mit Freude ihren Bewegungsdrang ausleben. Sie agieren freier\, spontaner und intensiver und können den Hautkontakt zu den Eltern genießen. \r\n\r\nLeitung: Daniela Hagn\, PEKiP-Leiterin und Erzieherin
URL;VALUE=URI:https://www.unser-ferienprogramm.de/nbh-garching/veranstaltung.php?id=305453
SUMMARY: PEKiP *9-12.25
DTSTART;TZID=Europe/Berlin:20260422T090000
END:VEVENT


BEGIN:VEVENT
DTEND;TZID=Europe/Berlin:20260506T103000
UID:69e7ffe06e51e2
DTSTAMP:20260422T005320
LOCATION:Familienzentrum Garching\, Telschowstr. 5
DESCRIPTION:Spiel- und Bewegungsanregungen für Babys im ersten Lebensjahr\r\n(September - Dezember 2025 geboren)\r\n\r\nDas Prager-Eltern-Kind-Programm (PEKiP) des Psychologen Jaroslav Koch basiert auf vielfältigen Spiel- und Bewegungsanregungen\, mit denen Eltern ihre Babys im ersten Lebensjahr spielerisch und ganz ohne Leistungserwartung begleiten können. \r\n\r\nZiel von PEKIP ist es\, Eltern und ihr Baby im sensiblen Prozess des Zueinanderfindens zu unterstützen\, um\r\n- das Baby in seiner seiner Entwicklung wahrzunehmen\, zu begleiten und zu unterstützen\,\r\n- die Beziehung zwischen Eltern und Baby zu stärken und zu vertiefen\,\r\n- dem Baby erste soziale Kontakte zu Gleichaltrigen zu ermöglichen\,\r\n- Eltern in dieser Lebensphase des Babys zu begleiten und den Erfahrungsaustausch sowie den Kontakt der Eltern untereinander zu fördern.\r\n\r\nDie PEKiP-Gruppe setzt sich aus 6 - 8 Erwachsenen und deren gleichaltrigen Babys sowie einer PEKiP-Gruppenleiterin zusammen. \r\n\r\nDie Treffen finden in einem warmen\, gut beheizten Raum statt. Die Babys sind während der Spielzeit nackt und windelfrei. Dadurch können die Säuglinge mit Freude ihren Bewegungsdrang ausleben. Sie agieren freier\, spontaner und intensiver und können den Hautkontakt zu den Eltern genießen. \r\n\r\nLeitung: Daniela Hagn\, PEKiP-Leiterin und Erzieherin
URL;VALUE=URI:https://www.unser-ferienprogramm.de/nbh-garching/veranstaltung.php?id=305453
SUMMARY: PEKiP *9-12.25
DTSTART;TZID=Europe/Berlin:20260506T090000
END:VEVENT


BEGIN:VEVENT
DTEND;TZID=Europe/Berlin:20260513T103000
UID:69e7ffe06e52e3
DTSTAMP:20260422T005320
LOCATION:Familienzentrum Garching\, Telschowstr. 5
DESCRIPTION:Spiel- und Bewegungsanregungen für Babys im ersten Lebensjahr\r\n(September - Dezember 2025 geboren)\r\n\r\nDas Prager-Eltern-Kind-Programm (PEKiP) des Psychologen Jaroslav Koch basiert auf vielfältigen Spiel- und Bewegungsanregungen\, mit denen Eltern ihre Babys im ersten Lebensjahr spielerisch und ganz ohne Leistungserwartung begleiten können. \r\n\r\nZiel von PEKIP ist es\, Eltern und ihr Baby im sensiblen Prozess des Zueinanderfindens zu unterstützen\, um\r\n- das Baby in seiner seiner Entwicklung wahrzunehmen\, zu begleiten und zu unterstützen\,\r\n- die Beziehung zwischen Eltern und Baby zu stärken und zu vertiefen\,\r\n- dem Baby erste soziale Kontakte zu Gleichaltrigen zu ermöglichen\,\r\n- Eltern in dieser Lebensphase des Babys zu begleiten und den Erfahrungsaustausch sowie den Kontakt der Eltern untereinander zu fördern.\r\n\r\nDie PEKiP-Gruppe setzt sich aus 6 - 8 Erwachsenen und deren gleichaltrigen Babys sowie einer PEKiP-Gruppenleiterin zusammen. \r\n\r\nDie Treffen finden in einem warmen\, gut beheizten Raum statt. Die Babys sind während der Spielzeit nackt und windelfrei. Dadurch können die Säuglinge mit Freude ihren Bewegungsdrang ausleben. Sie agieren freier\, spontaner und intensiver und können den Hautkontakt zu den Eltern genießen. \r\n\r\nLeitung: Daniela Hagn\, PEKiP-Leiterin und Erzieherin
URL;VALUE=URI:https://www.unser-ferienprogramm.de/nbh-garching/veranstaltung.php?id=305453
SUMMARY: PEKiP *9-12.25
DTSTART;TZID=Europe/Berlin:20260513T090000
END:VEVENT


BEGIN:VEVENT
DTEND;TZID=Europe/Berlin:20260520T103000
UID:69e7ffe06e53c4
DTSTAMP:20260422T005320
LOCATION:Familienzentrum Garching\, Telschowstr. 5
DESCRIPTION:Spiel- und Bewegungsanregungen für Babys im ersten Lebensjahr\r\n(September - Dezember 2025 geboren)\r\n\r\nDas Prager-Eltern-Kind-Programm (PEKiP) des Psychologen Jaroslav Koch basiert auf vielfältigen Spiel- und Bewegungsanregungen\, mit denen Eltern ihre Babys im ersten Lebensjahr spielerisch und ganz ohne Leistungserwartung begleiten können. \r\n\r\nZiel von PEKIP ist es\, Eltern und ihr Baby im sensiblen Prozess des Zueinanderfindens zu unterstützen\, um\r\n- das Baby in seiner seiner Entwicklung wahrzunehmen\, zu begleiten und zu unterstützen\,\r\n- die Beziehung zwischen Eltern und Baby zu stärken und zu vertiefen\,\r\n- dem Baby erste soziale Kontakte zu Gleichaltrigen zu ermöglichen\,\r\n- Eltern in dieser Lebensphase des Babys zu begleiten und den Erfahrungsaustausch sowie den Kontakt der Eltern untereinander zu fördern.\r\n\r\nDie PEKiP-Gruppe setzt sich aus 6 - 8 Erwachsenen und deren gleichaltrigen Babys sowie einer PEKiP-Gruppenleiterin zusammen. \r\n\r\nDie Treffen finden in einem warmen\, gut beheizten Raum statt. Die Babys sind während der Spielzeit nackt und windelfrei. Dadurch können die Säuglinge mit Freude ihren Bewegungsdrang ausleben. Sie agieren freier\, spontaner und intensiver und können den Hautkontakt zu den Eltern genießen. \r\n\r\nLeitung: Daniela Hagn\, PEKiP-Leiterin und Erzieherin
URL;VALUE=URI:https://www.unser-ferienprogramm.de/nbh-garching/veranstaltung.php?id=305453
SUMMARY: PEKiP *9-12.25
DTSTART;TZID=Europe/Berlin:20260520T090000
END:VEVENT


BEGIN:VEVENT
DTEND;TZID=Europe/Berlin:20260527T103000
UID:69e7ffe06e54b5
DTSTAMP:20260422T005320
LOCATION:Familienzentrum Garching\, Telschowstr. 5
DESCRIPTION:Spiel- und Bewegungsanregungen für Babys im ersten Lebensjahr\r\n(September - Dezember 2025 geboren)\r\n\r\nDas Prager-Eltern-Kind-Programm (PEKiP) des Psychologen Jaroslav Koch basiert auf vielfältigen Spiel- und Bewegungsanregungen\, mit denen Eltern ihre Babys im ersten Lebensjahr spielerisch und ganz ohne Leistungserwartung begleiten können. \r\n\r\nZiel von PEKIP ist es\, Eltern und ihr Baby im sensiblen Prozess des Zueinanderfindens zu unterstützen\, um\r\n- das Baby in seiner seiner Entwicklung wahrzunehmen\, zu begleiten und zu unterstützen\,\r\n- die Beziehung zwischen Eltern und Baby zu stärken und zu vertiefen\,\r\n- dem Baby erste soziale Kontakte zu Gleichaltrigen zu ermöglichen\,\r\n- Eltern in dieser Lebensphase des Babys zu begleiten und den Erfahrungsaustausch sowie den Kontakt der Eltern untereinander zu fördern.\r\n\r\nDie PEKiP-Gruppe setzt sich aus 6 - 8 Erwachsenen und deren gleichaltrigen Babys sowie einer PEKiP-Gruppenleiterin zusammen. \r\n\r\nDie Treffen finden in einem warmen\, gut beheizten Raum statt. Die Babys sind während der Spielzeit nackt und windelfrei. Dadurch können die Säuglinge mit Freude ihren Bewegungsdrang ausleben. Sie agieren freier\, spontaner und intensiver und können den Hautkontakt zu den Eltern genießen. \r\n\r\nLeitung: Daniela Hagn\, PEKiP-Leiterin und Erzieherin
URL;VALUE=URI:https://www.unser-ferienprogramm.de/nbh-garching/veranstaltung.php?id=305453
SUMMARY: PEKiP *9-12.25
DTSTART;TZID=Europe/Berlin:20260527T090000
END:VEVENT


BEGIN:VEVENT
DTEND;TZID=Europe/Berlin:20260603T103000
UID:69e7ffe06e5596
DTSTAMP:20260422T005320
LOCATION:Familienzentrum Garching\, Telschowstr. 5
DESCRIPTION:Spiel- und Bewegungsanregungen für Babys im ersten Lebensjahr\r\n(September - Dezember 2025 geboren)\r\n\r\nDas Prager-Eltern-Kind-Programm (PEKiP) des Psychologen Jaroslav Koch basiert auf vielfältigen Spiel- und Bewegungsanregungen\, mit denen Eltern ihre Babys im ersten Lebensjahr spielerisch und ganz ohne Leistungserwartung begleiten können. \r\n\r\nZiel von PEKIP ist es\, Eltern und ihr Baby im sensiblen Prozess des Zueinanderfindens zu unterstützen\, um\r\n- das Baby in seiner seiner Entwicklung wahrzunehmen\, zu begleiten und zu unterstützen\,\r\n- die Beziehung zwischen Eltern und Baby zu stärken und zu vertiefen\,\r\n- dem Baby erste soziale Kontakte zu Gleichaltrigen zu ermöglichen\,\r\n- Eltern in dieser Lebensphase des Babys zu begleiten und den Erfahrungsaustausch sowie den Kontakt der Eltern untereinander zu fördern.\r\n\r\nDie PEKiP-Gruppe setzt sich aus 6 - 8 Erwachsenen und deren gleichaltrigen Babys sowie einer PEKiP-Gruppenleiterin zusammen. \r\n\r\nDie Treffen finden in einem warmen\, gut beheizten Raum statt. Die Babys sind während der Spielzeit nackt und windelfrei. Dadurch können die Säuglinge mit Freude ihren Bewegungsdrang ausleben. Sie agieren freier\, spontaner und intensiver und können den Hautkontakt zu den Eltern genießen. \r\n\r\nLeitung: Daniela Hagn\, PEKiP-Leiterin und Erzieherin
URL;VALUE=URI:https://www.unser-ferienprogramm.de/nbh-garching/veranstaltung.php?id=305453
SUMMARY: PEKiP *9-12.25
DTSTART;TZID=Europe/Berlin:20260603T090000
END:VEVENT


BEGIN:VEVENT
DTEND;TZID=Europe/Berlin:20260610T103000
UID:69e7ffe06e5677
DTSTAMP:20260422T005320
LOCATION:Familienzentrum Garching\, Telschowstr. 5
DESCRIPTION:Spiel- und Bewegungsanregungen für Babys im ersten Lebensjahr\r\n(September - Dezember 2025 geboren)\r\n\r\nDas Prager-Eltern-Kind-Programm (PEKiP) des Psychologen Jaroslav Koch basiert auf vielfältigen Spiel- und Bewegungsanregungen\, mit denen Eltern ihre Babys im ersten Lebensjahr spielerisch und ganz ohne Leistungserwartung begleiten können. \r\n\r\nZiel von PEKIP ist es\, Eltern und ihr Baby im sensiblen Prozess des Zueinanderfindens zu unterstützen\, um\r\n- das Baby in seiner seiner Entwicklung wahrzunehmen\, zu begleiten und zu unterstützen\,\r\n- die Beziehung zwischen Eltern und Baby zu stärken und zu vertiefen\,\r\n- dem Baby erste soziale Kontakte zu Gleichaltrigen zu ermöglichen\,\r\n- Eltern in dieser Lebensphase des Babys zu begleiten und den Erfahrungsaustausch sowie den Kontakt der Eltern untereinander zu fördern.\r\n\r\nDie PEKiP-Gruppe setzt sich aus 6 - 8 Erwachsenen und deren gleichaltrigen Babys sowie einer PEKiP-Gruppenleiterin zusammen. \r\n\r\nDie Treffen finden in einem warmen\, gut beheizten Raum statt. Die Babys sind während der Spielzeit nackt und windelfrei. Dadurch können die Säuglinge mit Freude ihren Bewegungsdrang ausleben. Sie agieren freier\, spontaner und intensiver und können den Hautkontakt zu den Eltern genießen. \r\n\r\nLeitung: Daniela Hagn\, PEKiP-Leiterin und Erzieherin
URL;VALUE=URI:https://www.unser-ferienprogramm.de/nbh-garching/veranstaltung.php?id=305453
SUMMARY: PEKiP *9-12.25
DTSTART;TZID=Europe/Berlin:20260610T090000
END:VEVENT


BEGIN:VEVENT
DTEND;TZID=Europe/Berlin:20260617T103000
UID:69e7ffe06e5768
DTSTAMP:20260422T005320
LOCATION:Familienzentrum Garching\, Telschowstr. 5
DESCRIPTION:Spiel- und Bewegungsanregungen für Babys im ersten Lebensjahr\r\n(September - Dezember 2025 geboren)\r\n\r\nDas Prager-Eltern-Kind-Programm (PEKiP) des Psychologen Jaroslav Koch basiert auf vielfältigen Spiel- und Bewegungsanregungen\, mit denen Eltern ihre Babys im ersten Lebensjahr spielerisch und ganz ohne Leistungserwartung begleiten können. \r\n\r\nZiel von PEKIP ist es\, Eltern und ihr Baby im sensiblen Prozess des Zueinanderfindens zu unterstützen\, um\r\n- das Baby in seiner seiner Entwicklung wahrzunehmen\, zu begleiten und zu unterstützen\,\r\n- die Beziehung zwischen Eltern und Baby zu stärken und zu vertiefen\,\r\n- dem Baby erste soziale Kontakte zu Gleichaltrigen zu ermöglichen\,\r\n- Eltern in dieser Lebensphase des Babys zu begleiten und den Erfahrungsaustausch sowie den Kontakt der Eltern untereinander zu fördern.\r\n\r\nDie PEKiP-Gruppe setzt sich aus 6 - 8 Erwachsenen und deren gleichaltrigen Babys sowie einer PEKiP-Gruppenleiterin zusammen. \r\n\r\nDie Treffen finden in einem warmen\, gut beheizten Raum statt. Die Babys sind während der Spielzeit nackt und windelfrei. Dadurch können die Säuglinge mit Freude ihren Bewegungsdrang ausleben. Sie agieren freier\, spontaner und intensiver und können den Hautkontakt zu den Eltern genießen. \r\n\r\nLeitung: Daniela Hagn\, PEKiP-Leiterin und Erzieherin
URL;VALUE=URI:https://www.unser-ferienprogramm.de/nbh-garching/veranstaltung.php?id=305453
SUMMARY: PEKiP *9-12.25
DTSTART;TZID=Europe/Berlin:20260617T090000
END:VEVENT


BEGIN:VEVENT
DTEND;TZID=Europe/Berlin:20260624T103000
UID:69e7ffe06e5869
DTSTAMP:20260422T005320
LOCATION:Familienzentrum Garching\, Telschowstr. 5
DESCRIPTION:Spiel- und Bewegungsanregungen für Babys im ersten Lebensjahr\r\n(September - Dezember 2025 geboren)\r\n\r\nDas Prager-Eltern-Kind-Programm (PEKiP) des Psychologen Jaroslav Koch basiert auf vielfältigen Spiel- und Bewegungsanregungen\, mit denen Eltern ihre Babys im ersten Lebensjahr spielerisch und ganz ohne Leistungserwartung begleiten können. \r\n\r\nZiel von PEKIP ist es\, Eltern und ihr Baby im sensiblen Prozess des Zueinanderfindens zu unterstützen\, um\r\n- das Baby in seiner seiner Entwicklung wahrzunehmen\, zu begleiten und zu unterstützen\,\r\n- die Beziehung zwischen Eltern und Baby zu stärken und zu vertiefen\,\r\n- dem Baby erste soziale Kontakte zu Gleichaltrigen zu ermöglichen\,\r\n- Eltern in dieser Lebensphase des Babys zu begleiten und den Erfahrungsaustausch sowie den Kontakt der Eltern untereinander zu fördern.\r\n\r\nDie PEKiP-Gruppe setzt sich aus 6 - 8 Erwachsenen und deren gleichaltrigen Babys sowie einer PEKiP-Gruppenleiterin zusammen. \r\n\r\nDie Treffen finden in einem warmen\, gut beheizten Raum statt. Die Babys sind während der Spielzeit nackt und windelfrei. Dadurch können die Säuglinge mit Freude ihren Bewegungsdrang ausleben. Sie agieren freier\, spontaner und intensiver und können den Hautkontakt zu den Eltern genießen. \r\n\r\nLeitung: Daniela Hagn\, PEKiP-Leiterin und Erzieherin
URL;VALUE=URI:https://www.unser-ferienprogramm.de/nbh-garching/veranstaltung.php?id=305453
SUMMARY: PEKiP *9-12.25
DTSTART;TZID=Europe/Berlin:20260624T090000
END:VEVENT

END:VCALENDAR
