BEGIN:VCALENDAR
VERSION:2.0
PRODID:-//hacksw/handcal//NONSGML v1.0//EN
CALSCALE:GREGORIAN
BEGIN:VTIMEZONE
TZID:Europe/Berlin
X-LIC-LOCATION:Europe/Berlin
BEGIN:DAYLIGHT
TZOFFSETFROM:+0100
TZOFFSETTO:+0200
TZNAME:CEST
DTSTART:19700329T020000
RRULE:FREQ=YEARLY;BYDAY=-1SU;BYMONTH=3
END:DAYLIGHT
BEGIN:STANDARD
TZOFFSETFROM:+0200
TZOFFSETTO:+0100
TZNAME:CET
DTSTART:19701025T030000
RRULE:FREQ=YEARLY;BYDAY=-1SU;BYMONTH=10
END:STANDARD
END:VTIMEZONE
BEGIN:VEVENT
DTEND;TZID=Europe/Berlin:20260429T114000
UID:69e815ff9cd74
DTSTAMP:20260422T022743
LOCATION:Familienzentrum Garching\, Telschowstr. 5
DESCRIPTION:In diesem Kurs erwartet Sie:\r\n- Yoga für Senioren ab 65 Jahre\r\n- Atemübungen\, Bewegung und Entspannung\r\n- Übungen im Stehen\, Liegen oder Sitzen auf dem Stuhl\r\n- Gemeinsames Üben für mehr Kraft\, Beweglichkeit und Gleichgewicht\r\n\r\nDas Angebot ist barrierefrei\r\n\r\nKursleitung: Jani Ecker\, zert. Yogalehrerin 
URL;VALUE=URI:https://www.unser-ferienprogramm.de/nbh-garching/veranstaltung.php?id=305276
SUMMARY:Senioren-Yoga ab April
DTSTART;TZID=Europe/Berlin:20260429T094500
END:VEVENT


BEGIN:VEVENT
DTEND;TZID=Europe/Berlin:20260506T114000
UID:69e815ff9cda61
DTSTAMP:20260422T022743
LOCATION:Familienzentrum Garching\, Telschowstr. 5
DESCRIPTION:In diesem Kurs erwartet Sie:\r\n- Yoga für Senioren ab 65 Jahre\r\n- Atemübungen\, Bewegung und Entspannung\r\n- Übungen im Stehen\, Liegen oder Sitzen auf dem Stuhl\r\n- Gemeinsames Üben für mehr Kraft\, Beweglichkeit und Gleichgewicht\r\n\r\nDas Angebot ist barrierefrei\r\n\r\nKursleitung: Jani Ecker\, zert. Yogalehrerin 
URL;VALUE=URI:https://www.unser-ferienprogramm.de/nbh-garching/veranstaltung.php?id=305276
SUMMARY:Senioren-Yoga ab April
DTSTART;TZID=Europe/Berlin:20260506T094500
END:VEVENT


BEGIN:VEVENT
DTEND;TZID=Europe/Berlin:20260513T114000
UID:69e815ff9cdb42
DTSTAMP:20260422T022743
LOCATION:Familienzentrum Garching\, Telschowstr. 5
DESCRIPTION:In diesem Kurs erwartet Sie:\r\n- Yoga für Senioren ab 65 Jahre\r\n- Atemübungen\, Bewegung und Entspannung\r\n- Übungen im Stehen\, Liegen oder Sitzen auf dem Stuhl\r\n- Gemeinsames Üben für mehr Kraft\, Beweglichkeit und Gleichgewicht\r\n\r\nDas Angebot ist barrierefrei\r\n\r\nKursleitung: Jani Ecker\, zert. Yogalehrerin 
URL;VALUE=URI:https://www.unser-ferienprogramm.de/nbh-garching/veranstaltung.php?id=305276
SUMMARY:Senioren-Yoga ab April
DTSTART;TZID=Europe/Berlin:20260513T094500
END:VEVENT


BEGIN:VEVENT
DTEND;TZID=Europe/Berlin:20260520T114000
UID:69e815ff9cdbf3
DTSTAMP:20260422T022743
LOCATION:Familienzentrum Garching\, Telschowstr. 5
DESCRIPTION:In diesem Kurs erwartet Sie:\r\n- Yoga für Senioren ab 65 Jahre\r\n- Atemübungen\, Bewegung und Entspannung\r\n- Übungen im Stehen\, Liegen oder Sitzen auf dem Stuhl\r\n- Gemeinsames Üben für mehr Kraft\, Beweglichkeit und Gleichgewicht\r\n\r\nDas Angebot ist barrierefrei\r\n\r\nKursleitung: Jani Ecker\, zert. Yogalehrerin 
URL;VALUE=URI:https://www.unser-ferienprogramm.de/nbh-garching/veranstaltung.php?id=305276
SUMMARY:Senioren-Yoga ab April
DTSTART;TZID=Europe/Berlin:20260520T094500
END:VEVENT


BEGIN:VEVENT
DTEND;TZID=Europe/Berlin:20260610T114000
UID:69e815ff9cdc94
DTSTAMP:20260422T022743
LOCATION:Familienzentrum Garching\, Telschowstr. 5
DESCRIPTION:In diesem Kurs erwartet Sie:\r\n- Yoga für Senioren ab 65 Jahre\r\n- Atemübungen\, Bewegung und Entspannung\r\n- Übungen im Stehen\, Liegen oder Sitzen auf dem Stuhl\r\n- Gemeinsames Üben für mehr Kraft\, Beweglichkeit und Gleichgewicht\r\n\r\nDas Angebot ist barrierefrei\r\n\r\nKursleitung: Jani Ecker\, zert. Yogalehrerin 
URL;VALUE=URI:https://www.unser-ferienprogramm.de/nbh-garching/veranstaltung.php?id=305276
SUMMARY:Senioren-Yoga ab April
DTSTART;TZID=Europe/Berlin:20260610T094500
END:VEVENT


BEGIN:VEVENT
DTEND;TZID=Europe/Berlin:20260617T114000
UID:69e815ff9cdd25
DTSTAMP:20260422T022743
LOCATION:Familienzentrum Garching\, Telschowstr. 5
DESCRIPTION:In diesem Kurs erwartet Sie:\r\n- Yoga für Senioren ab 65 Jahre\r\n- Atemübungen\, Bewegung und Entspannung\r\n- Übungen im Stehen\, Liegen oder Sitzen auf dem Stuhl\r\n- Gemeinsames Üben für mehr Kraft\, Beweglichkeit und Gleichgewicht\r\n\r\nDas Angebot ist barrierefrei\r\n\r\nKursleitung: Jani Ecker\, zert. Yogalehrerin 
URL;VALUE=URI:https://www.unser-ferienprogramm.de/nbh-garching/veranstaltung.php?id=305276
SUMMARY:Senioren-Yoga ab April
DTSTART;TZID=Europe/Berlin:20260617T094500
END:VEVENT


BEGIN:VEVENT
DTEND;TZID=Europe/Berlin:20260624T114000
UID:69e815ff9cddc6
DTSTAMP:20260422T022743
LOCATION:Familienzentrum Garching\, Telschowstr. 5
DESCRIPTION:In diesem Kurs erwartet Sie:\r\n- Yoga für Senioren ab 65 Jahre\r\n- Atemübungen\, Bewegung und Entspannung\r\n- Übungen im Stehen\, Liegen oder Sitzen auf dem Stuhl\r\n- Gemeinsames Üben für mehr Kraft\, Beweglichkeit und Gleichgewicht\r\n\r\nDas Angebot ist barrierefrei\r\n\r\nKursleitung: Jani Ecker\, zert. Yogalehrerin 
URL;VALUE=URI:https://www.unser-ferienprogramm.de/nbh-garching/veranstaltung.php?id=305276
SUMMARY:Senioren-Yoga ab April
DTSTART;TZID=Europe/Berlin:20260624T094500
END:VEVENT


BEGIN:VEVENT
DTEND;TZID=Europe/Berlin:20260701T114000
UID:69e815ff9cde87
DTSTAMP:20260422T022743
LOCATION:Familienzentrum Garching\, Telschowstr. 5
DESCRIPTION:In diesem Kurs erwartet Sie:\r\n- Yoga für Senioren ab 65 Jahre\r\n- Atemübungen\, Bewegung und Entspannung\r\n- Übungen im Stehen\, Liegen oder Sitzen auf dem Stuhl\r\n- Gemeinsames Üben für mehr Kraft\, Beweglichkeit und Gleichgewicht\r\n\r\nDas Angebot ist barrierefrei\r\n\r\nKursleitung: Jani Ecker\, zert. Yogalehrerin 
URL;VALUE=URI:https://www.unser-ferienprogramm.de/nbh-garching/veranstaltung.php?id=305276
SUMMARY:Senioren-Yoga ab April
DTSTART;TZID=Europe/Berlin:20260701T094500
END:VEVENT


BEGIN:VEVENT
DTEND;TZID=Europe/Berlin:20260708T114000
UID:69e815ff9cdf28
DTSTAMP:20260422T022743
LOCATION:Familienzentrum Garching\, Telschowstr. 5
DESCRIPTION:In diesem Kurs erwartet Sie:\r\n- Yoga für Senioren ab 65 Jahre\r\n- Atemübungen\, Bewegung und Entspannung\r\n- Übungen im Stehen\, Liegen oder Sitzen auf dem Stuhl\r\n- Gemeinsames Üben für mehr Kraft\, Beweglichkeit und Gleichgewicht\r\n\r\nDas Angebot ist barrierefrei\r\n\r\nKursleitung: Jani Ecker\, zert. Yogalehrerin 
URL;VALUE=URI:https://www.unser-ferienprogramm.de/nbh-garching/veranstaltung.php?id=305276
SUMMARY:Senioren-Yoga ab April
DTSTART;TZID=Europe/Berlin:20260708T094500
END:VEVENT


BEGIN:VEVENT
DTEND;TZID=Europe/Berlin:20260715T114000
UID:69e815ff9cdfb9
DTSTAMP:20260422T022743
LOCATION:Familienzentrum Garching\, Telschowstr. 5
DESCRIPTION:In diesem Kurs erwartet Sie:\r\n- Yoga für Senioren ab 65 Jahre\r\n- Atemübungen\, Bewegung und Entspannung\r\n- Übungen im Stehen\, Liegen oder Sitzen auf dem Stuhl\r\n- Gemeinsames Üben für mehr Kraft\, Beweglichkeit und Gleichgewicht\r\n\r\nDas Angebot ist barrierefrei\r\n\r\nKursleitung: Jani Ecker\, zert. Yogalehrerin 
URL;VALUE=URI:https://www.unser-ferienprogramm.de/nbh-garching/veranstaltung.php?id=305276
SUMMARY:Senioren-Yoga ab April
DTSTART;TZID=Europe/Berlin:20260715T094500
END:VEVENT

END:VCALENDAR
