BEGIN:VCALENDAR
VERSION:2.0
PRODID:-//hacksw/handcal//NONSGML v1.0//EN
CALSCALE:GREGORIAN
BEGIN:VTIMEZONE
TZID:Europe/Berlin
X-LIC-LOCATION:Europe/Berlin
BEGIN:DAYLIGHT
TZOFFSETFROM:+0100
TZOFFSETTO:+0200
TZNAME:CEST
DTSTART:19700329T020000
RRULE:FREQ=YEARLY;BYDAY=-1SU;BYMONTH=3
END:DAYLIGHT
BEGIN:STANDARD
TZOFFSETFROM:+0200
TZOFFSETTO:+0100
TZNAME:CET
DTSTART:19701025T030000
RRULE:FREQ=YEARLY;BYDAY=-1SU;BYMONTH=10
END:STANDARD
END:VTIMEZONE
BEGIN:VEVENT
DTEND;TZID=Europe/Berlin:20260517T120000
UID:69e816ebb749c
DTSTAMP:20260422T023139
LOCATION:Offener Treff
DESCRIPTION:- Selbstorganisierter Sonntagsbrunch für alleinerziehende Mamas und Papas mit und ohne Kind \r\n- Gemeinsam frühstücken\, austauschen\, sich kennenlernen\r\n- Zum Frühstücken darf jede*r selbst etwas zum Buffet beitragen\r\n- Kaffee und Tee gibt’s vor Ort zum Verkauf.\r\n- Spiel und Spaß für Kinder in unseren schönen Spielräumen\r\n- Zur besseren Planung bitten wir um Anmeldung. Eine spontane Teilnahme ist trotzdem jederzeit möglich!
URL;VALUE=URI:https://www.unser-ferienprogramm.de/nbh-garching/veranstaltung.php?id=305002
SUMMARY:Sonntagsbrunch für Alleinerziehende
DTSTART;TZID=Europe/Berlin:20260517T090000
END:VEVENT

END:VCALENDAR
