BEGIN:VCALENDAR
VERSION:2.0
PRODID:-//hacksw/handcal//NONSGML v1.0//EN
CALSCALE:GREGORIAN
BEGIN:VTIMEZONE
TZID:Europe/Berlin
X-LIC-LOCATION:Europe/Berlin
BEGIN:DAYLIGHT
TZOFFSETFROM:+0100
TZOFFSETTO:+0200
TZNAME:CEST
DTSTART:19700329T020000
RRULE:FREQ=YEARLY;BYDAY=-1SU;BYMONTH=3
END:DAYLIGHT
BEGIN:STANDARD
TZOFFSETFROM:+0200
TZOFFSETTO:+0100
TZNAME:CET
DTSTART:19701025T030000
RRULE:FREQ=YEARLY;BYDAY=-1SU;BYMONTH=10
END:STANDARD
END:VTIMEZONE
BEGIN:VEVENT
DTEND;TZID=Europe/Berlin:20260426T120000
UID:69e7fe46db589
DTSTAMP:20260422T004630
LOCATION:Offener Treff
DESCRIPTION:- Gemütliches Beisammensein\, Zeit für Austausch und sich kennenlernen\r\n- Frühstücksbuffet\r\n- Spiel und Spaß für Kinder in unseren schönen Spielräumen\r\n- Zur besseren Planung bitten wir um eine Anmeldung. Eine sponane Teilnahme ist trotzdem jederzeit möglich!
URL;VALUE=URI:https://www.unser-ferienprogramm.de/nbh-garching/veranstaltung.php?id=304660
SUMMARY: Vätertreff im Familienzentrum
DTSTART;TZID=Europe/Berlin:20260426T090000
END:VEVENT

END:VCALENDAR
