BEGIN:VCALENDAR
VERSION:2.0
PRODID:-//hacksw/handcal//NONSGML v1.0//EN
CALSCALE:GREGORIAN
BEGIN:VTIMEZONE
TZID:Europe/Berlin
X-LIC-LOCATION:Europe/Berlin
BEGIN:DAYLIGHT
TZOFFSETFROM:+0100
TZOFFSETTO:+0200
TZNAME:CEST
DTSTART:19700329T020000
RRULE:FREQ=YEARLY;BYDAY=-1SU;BYMONTH=3
END:DAYLIGHT
BEGIN:STANDARD
TZOFFSETFROM:+0200
TZOFFSETTO:+0100
TZNAME:CET
DTSTART:19701025T030000
RRULE:FREQ=YEARLY;BYDAY=-1SU;BYMONTH=10
END:STANDARD
END:VTIMEZONE
BEGIN:VEVENT
DTEND;TZID=Europe/Berlin:20260402T113000
UID:69e7ffe0a1ef7
DTSTAMP:20260422T005320
LOCATION:Familienzentrum Garching\, Telschowstr. 5\,
DESCRIPTION:ANMELDUNG BITTE NUR PER MAIL\r\nAN: familienzentrum@nbh-garching.de\r\n\r\nDie Gruppe ist für Babys im Alter von 7 - 12 Monaten. \r\n\r\nKosten: Vor Ort werden 3 € zu bezahlen\r\n\r\nKursleitung: Martina Hanuschik\, Kinderkrankenschwester
URL;VALUE=URI:https://www.unser-ferienprogramm.de/nbh-garching/veranstaltung.php?id=304230
SUMMARY: Säuglingsgruppe 7-12 Monate April
DTSTART;TZID=Europe/Berlin:20260402T100000
END:VEVENT


BEGIN:VEVENT
DTEND;TZID=Europe/Berlin:20260409T113000
UID:69e7ffe0a1f321
DTSTAMP:20260422T005320
LOCATION:Familienzentrum Garching\, Telschowstr. 5\,
DESCRIPTION:ANMELDUNG BITTE NUR PER MAIL\r\nAN: familienzentrum@nbh-garching.de\r\n\r\nDie Gruppe ist für Babys im Alter von 7 - 12 Monaten. \r\n\r\nKosten: Vor Ort werden 3 € zu bezahlen\r\n\r\nKursleitung: Martina Hanuschik\, Kinderkrankenschwester
URL;VALUE=URI:https://www.unser-ferienprogramm.de/nbh-garching/veranstaltung.php?id=304230
SUMMARY: Säuglingsgruppe 7-12 Monate April
DTSTART;TZID=Europe/Berlin:20260409T100000
END:VEVENT


BEGIN:VEVENT
DTEND;TZID=Europe/Berlin:20260416T113000
UID:69e7ffe0a1f3f2
DTSTAMP:20260422T005320
LOCATION:Familienzentrum Garching\, Telschowstr. 5\,
DESCRIPTION:ANMELDUNG BITTE NUR PER MAIL\r\nAN: familienzentrum@nbh-garching.de\r\n\r\nDie Gruppe ist für Babys im Alter von 7 - 12 Monaten. \r\n\r\nKosten: Vor Ort werden 3 € zu bezahlen\r\n\r\nKursleitung: Martina Hanuschik\, Kinderkrankenschwester
URL;VALUE=URI:https://www.unser-ferienprogramm.de/nbh-garching/veranstaltung.php?id=304230
SUMMARY: Säuglingsgruppe 7-12 Monate April
DTSTART;TZID=Europe/Berlin:20260416T100000
END:VEVENT


BEGIN:VEVENT
DTEND;TZID=Europe/Berlin:20260423T113000
UID:69e7ffe0a1f4f3
DTSTAMP:20260422T005320
LOCATION:Familienzentrum Garching\, Telschowstr. 5\,
DESCRIPTION:ANMELDUNG BITTE NUR PER MAIL\r\nAN: familienzentrum@nbh-garching.de\r\n\r\nDie Gruppe ist für Babys im Alter von 7 - 12 Monaten. \r\n\r\nKosten: Vor Ort werden 3 € zu bezahlen\r\n\r\nKursleitung: Martina Hanuschik\, Kinderkrankenschwester
URL;VALUE=URI:https://www.unser-ferienprogramm.de/nbh-garching/veranstaltung.php?id=304230
SUMMARY: Säuglingsgruppe 7-12 Monate April
DTSTART;TZID=Europe/Berlin:20260423T100000
END:VEVENT


BEGIN:VEVENT
DTEND;TZID=Europe/Berlin:20260430T113000
UID:69e7ffe0a1f5a4
DTSTAMP:20260422T005320
LOCATION:Familienzentrum Garching\, Telschowstr. 5\,
DESCRIPTION:ANMELDUNG BITTE NUR PER MAIL\r\nAN: familienzentrum@nbh-garching.de\r\n\r\nDie Gruppe ist für Babys im Alter von 7 - 12 Monaten. \r\n\r\nKosten: Vor Ort werden 3 € zu bezahlen\r\n\r\nKursleitung: Martina Hanuschik\, Kinderkrankenschwester
URL;VALUE=URI:https://www.unser-ferienprogramm.de/nbh-garching/veranstaltung.php?id=304230
SUMMARY: Säuglingsgruppe 7-12 Monate April
DTSTART;TZID=Europe/Berlin:20260430T100000
END:VEVENT

END:VCALENDAR
