BEGIN:VCALENDAR
VERSION:2.0
PRODID:-//hacksw/handcal//NONSGML v1.0//EN
CALSCALE:GREGORIAN
BEGIN:VTIMEZONE
TZID:Europe/Berlin
X-LIC-LOCATION:Europe/Berlin
BEGIN:DAYLIGHT
TZOFFSETFROM:+0100
TZOFFSETTO:+0200
TZNAME:CEST
DTSTART:19700329T020000
RRULE:FREQ=YEARLY;BYDAY=-1SU;BYMONTH=3
END:DAYLIGHT
BEGIN:STANDARD
TZOFFSETFROM:+0200
TZOFFSETTO:+0100
TZNAME:CET
DTSTART:19701025T030000
RRULE:FREQ=YEARLY;BYDAY=-1SU;BYMONTH=10
END:STANDARD
END:VTIMEZONE
BEGIN:VEVENT
DTEND;TZID=Europe/Berlin:20260402T133000
UID:69e7ffdfef896
DTSTAMP:20260422T005319
LOCATION:Familienzentrum Garching\, Telschowstr. 5
DESCRIPTION:ANMELDUNG BITTE NUR PER MAIL\r\nAN: familienzentrum@nbh-garching.de\r\n\r\nDie Gruppe ist für Babys im Alter von 0-6 Monaten. \r\n\r\n\r\nKursleitung: Martina Hanuschik\, Kinderkrankenschwester\r\n\r\nKosten: 3€ vor Ort zu bezahlen.\r\n
URL;VALUE=URI:https://www.unser-ferienprogramm.de/nbh-garching/veranstaltung.php?id=304226
SUMMARY:Säuglingsgruppe 0-6 Monate April
DTSTART;TZID=Europe/Berlin:20260402T120000
END:VEVENT


BEGIN:VEVENT
DTEND;TZID=Europe/Berlin:20260409T133000
UID:69e7ffdfef8c91
DTSTAMP:20260422T005319
LOCATION:Familienzentrum Garching\, Telschowstr. 5
DESCRIPTION:ANMELDUNG BITTE NUR PER MAIL\r\nAN: familienzentrum@nbh-garching.de\r\n\r\nDie Gruppe ist für Babys im Alter von 0-6 Monaten. \r\n\r\n\r\nKursleitung: Martina Hanuschik\, Kinderkrankenschwester\r\n\r\nKosten: 3€ vor Ort zu bezahlen.\r\n
URL;VALUE=URI:https://www.unser-ferienprogramm.de/nbh-garching/veranstaltung.php?id=304226
SUMMARY:Säuglingsgruppe 0-6 Monate April
DTSTART;TZID=Europe/Berlin:20260409T120000
END:VEVENT


BEGIN:VEVENT
DTEND;TZID=Europe/Berlin:20260416T133000
UID:69e7ffdfef8d72
DTSTAMP:20260422T005319
LOCATION:Familienzentrum Garching\, Telschowstr. 5
DESCRIPTION:ANMELDUNG BITTE NUR PER MAIL\r\nAN: familienzentrum@nbh-garching.de\r\n\r\nDie Gruppe ist für Babys im Alter von 0-6 Monaten. \r\n\r\n\r\nKursleitung: Martina Hanuschik\, Kinderkrankenschwester\r\n\r\nKosten: 3€ vor Ort zu bezahlen.\r\n
URL;VALUE=URI:https://www.unser-ferienprogramm.de/nbh-garching/veranstaltung.php?id=304226
SUMMARY:Säuglingsgruppe 0-6 Monate April
DTSTART;TZID=Europe/Berlin:20260416T120000
END:VEVENT


BEGIN:VEVENT
DTEND;TZID=Europe/Berlin:20260423T133000
UID:69e7ffdfef8e93
DTSTAMP:20260422T005319
LOCATION:Familienzentrum Garching\, Telschowstr. 5
DESCRIPTION:ANMELDUNG BITTE NUR PER MAIL\r\nAN: familienzentrum@nbh-garching.de\r\n\r\nDie Gruppe ist für Babys im Alter von 0-6 Monaten. \r\n\r\n\r\nKursleitung: Martina Hanuschik\, Kinderkrankenschwester\r\n\r\nKosten: 3€ vor Ort zu bezahlen.\r\n
URL;VALUE=URI:https://www.unser-ferienprogramm.de/nbh-garching/veranstaltung.php?id=304226
SUMMARY:Säuglingsgruppe 0-6 Monate April
DTSTART;TZID=Europe/Berlin:20260423T120000
END:VEVENT


BEGIN:VEVENT
DTEND;TZID=Europe/Berlin:20260430T133000
UID:69e7ffdfef8f54
DTSTAMP:20260422T005319
LOCATION:Familienzentrum Garching\, Telschowstr. 5
DESCRIPTION:ANMELDUNG BITTE NUR PER MAIL\r\nAN: familienzentrum@nbh-garching.de\r\n\r\nDie Gruppe ist für Babys im Alter von 0-6 Monaten. \r\n\r\n\r\nKursleitung: Martina Hanuschik\, Kinderkrankenschwester\r\n\r\nKosten: 3€ vor Ort zu bezahlen.\r\n
URL;VALUE=URI:https://www.unser-ferienprogramm.de/nbh-garching/veranstaltung.php?id=304226
SUMMARY:Säuglingsgruppe 0-6 Monate April
DTSTART;TZID=Europe/Berlin:20260430T120000
END:VEVENT

END:VCALENDAR
