BEGIN:VCALENDAR
VERSION:2.0
PRODID:-//hacksw/handcal//NONSGML v1.0//EN
CALSCALE:GREGORIAN
BEGIN:VTIMEZONE
TZID:Europe/Berlin
X-LIC-LOCATION:Europe/Berlin
BEGIN:DAYLIGHT
TZOFFSETFROM:+0100
TZOFFSETTO:+0200
TZNAME:CEST
DTSTART:19700329T020000
RRULE:FREQ=YEARLY;BYDAY=-1SU;BYMONTH=3
END:DAYLIGHT
BEGIN:STANDARD
TZOFFSETFROM:+0200
TZOFFSETTO:+0100
TZNAME:CET
DTSTART:19701025T030000
RRULE:FREQ=YEARLY;BYDAY=-1SU;BYMONTH=10
END:STANDARD
END:VTIMEZONE
BEGIN:VEVENT
DTEND;TZID=Europe/Berlin:20260316T170000
UID:69e7ff8f038a1
DTSTAMP:20260422T005159
LOCATION:Familienzentrum Garching\, Telschowstr. 5
DESCRIPTION:Erlernen der Massagetechnik\r\nFörderung der Eltern-Kind-Bindung\r\n\r\nSchnupperstunde möglich\r\nKursleitung: Katrin Braetsch\, Gesundheits- & Kinderkrankenpflegerin\r\n
URL;VALUE=URI:https://www.unser-ferienprogramm.de/nbh-garching/veranstaltung.php?id=301820
SUMMARY: Babymassage nach Ayurvedischer Art 6er Block
DTSTART;TZID=Europe/Berlin:20260316T160000
END:VEVENT


BEGIN:VEVENT
DTEND;TZID=Europe/Berlin:20260323T170000
UID:69e7ff8f038d61
DTSTAMP:20260422T005159
LOCATION:Familienzentrum Garching\, Telschowstr. 5
DESCRIPTION:Erlernen der Massagetechnik\r\nFörderung der Eltern-Kind-Bindung\r\n\r\nSchnupperstunde möglich\r\nKursleitung: Katrin Braetsch\, Gesundheits- & Kinderkrankenpflegerin\r\n
URL;VALUE=URI:https://www.unser-ferienprogramm.de/nbh-garching/veranstaltung.php?id=301820
SUMMARY: Babymassage nach Ayurvedischer Art 6er Block
DTSTART;TZID=Europe/Berlin:20260323T160000
END:VEVENT


BEGIN:VEVENT
DTEND;TZID=Europe/Berlin:20260413T170000
UID:69e7ff8f038e32
DTSTAMP:20260422T005159
LOCATION:Familienzentrum Garching\, Telschowstr. 5
DESCRIPTION:Erlernen der Massagetechnik\r\nFörderung der Eltern-Kind-Bindung\r\n\r\nSchnupperstunde möglich\r\nKursleitung: Katrin Braetsch\, Gesundheits- & Kinderkrankenpflegerin\r\n
URL;VALUE=URI:https://www.unser-ferienprogramm.de/nbh-garching/veranstaltung.php?id=301820
SUMMARY: Babymassage nach Ayurvedischer Art 6er Block
DTSTART;TZID=Europe/Berlin:20260413T160000
END:VEVENT


BEGIN:VEVENT
DTEND;TZID=Europe/Berlin:20260420T170000
UID:69e7ff8f039013
DTSTAMP:20260422T005159
LOCATION:Familienzentrum Garching\, Telschowstr. 5
DESCRIPTION:Erlernen der Massagetechnik\r\nFörderung der Eltern-Kind-Bindung\r\n\r\nSchnupperstunde möglich\r\nKursleitung: Katrin Braetsch\, Gesundheits- & Kinderkrankenpflegerin\r\n
URL;VALUE=URI:https://www.unser-ferienprogramm.de/nbh-garching/veranstaltung.php?id=301820
SUMMARY: Babymassage nach Ayurvedischer Art 6er Block
DTSTART;TZID=Europe/Berlin:20260420T160000
END:VEVENT


BEGIN:VEVENT
DTEND;TZID=Europe/Berlin:20260427T170000
UID:69e7ff8f0390a4
DTSTAMP:20260422T005159
LOCATION:Familienzentrum Garching\, Telschowstr. 5
DESCRIPTION:Erlernen der Massagetechnik\r\nFörderung der Eltern-Kind-Bindung\r\n\r\nSchnupperstunde möglich\r\nKursleitung: Katrin Braetsch\, Gesundheits- & Kinderkrankenpflegerin\r\n
URL;VALUE=URI:https://www.unser-ferienprogramm.de/nbh-garching/veranstaltung.php?id=301820
SUMMARY: Babymassage nach Ayurvedischer Art 6er Block
DTSTART;TZID=Europe/Berlin:20260427T160000
END:VEVENT


BEGIN:VEVENT
DTEND;TZID=Europe/Berlin:20260504T170000
UID:69e7ff8f039135
DTSTAMP:20260422T005159
LOCATION:Familienzentrum Garching\, Telschowstr. 5
DESCRIPTION:Erlernen der Massagetechnik\r\nFörderung der Eltern-Kind-Bindung\r\n\r\nSchnupperstunde möglich\r\nKursleitung: Katrin Braetsch\, Gesundheits- & Kinderkrankenpflegerin\r\n
URL;VALUE=URI:https://www.unser-ferienprogramm.de/nbh-garching/veranstaltung.php?id=301820
SUMMARY: Babymassage nach Ayurvedischer Art 6er Block
DTSTART;TZID=Europe/Berlin:20260504T160000
END:VEVENT

END:VCALENDAR
