BEGIN:VCALENDAR
VERSION:2.0
PRODID:-//hacksw/handcal//NONSGML v1.0//EN
CALSCALE:GREGORIAN
BEGIN:VTIMEZONE
TZID:Europe/Berlin
X-LIC-LOCATION:Europe/Berlin
BEGIN:DAYLIGHT
TZOFFSETFROM:+0100
TZOFFSETTO:+0200
TZNAME:CEST
DTSTART:19700329T020000
RRULE:FREQ=YEARLY;BYDAY=-1SU;BYMONTH=3
END:DAYLIGHT
BEGIN:STANDARD
TZOFFSETFROM:+0200
TZOFFSETTO:+0100
TZNAME:CET
DTSTART:19701025T030000
RRULE:FREQ=YEARLY;BYDAY=-1SU;BYMONTH=10
END:STANDARD
END:VTIMEZONE
BEGIN:VEVENT
DTEND;TZID=Europe/Berlin:20260427T220000
UID:69e7fe092a4cc
DTSTAMP:20260422T004529
LOCATION:Familienzentrum Garching\, Telschowstr. 5
DESCRIPTION:Wir treffen uns\, um unsere kreativen Ideen mit der Nähmaschine umzusetzen\r\nEgal ob Du schon Näherfahrung hast oder nicht\, bei uns kannst Du Dein Projekt verwirklichen\r\nWir helfen uns gegenseitig und teilen unser Wissen und lernen Neues. \r\nKomm einfach mit (oder ohne) Nähmaschine vorbei! \r\n\r\n\r\n
URL;VALUE=URI:https://www.unser-ferienprogramm.de/nbh-garching/veranstaltung.php?id=296014
SUMMARY:Nähtreff
DTSTART;TZID=Europe/Berlin:20260427T180000
END:VEVENT

END:VCALENDAR
