BEGIN:VCALENDAR
VERSION:2.0
PRODID:-//hacksw/handcal//NONSGML v1.0//EN
CALSCALE:GREGORIAN
BEGIN:VTIMEZONE
TZID:Europe/Berlin
X-LIC-LOCATION:Europe/Berlin
BEGIN:DAYLIGHT
TZOFFSETFROM:+0100
TZOFFSETTO:+0200
TZNAME:CEST
DTSTART:19700329T020000
RRULE:FREQ=YEARLY;BYDAY=-1SU;BYMONTH=3
END:DAYLIGHT
BEGIN:STANDARD
TZOFFSETFROM:+0200
TZOFFSETTO:+0100
TZNAME:CET
DTSTART:19701025T030000
RRULE:FREQ=YEARLY;BYDAY=-1SU;BYMONTH=10
END:STANDARD
END:VTIMEZONE
BEGIN:VEVENT
DTEND;TZID=Europe/Berlin:20260425T160000
UID:69e6948fed333
DTSTAMP:20260420T230311
LOCATION:Naturzentrum Rheinauen
DESCRIPTION:Termin 1: 9:00 - 14:00 Uhr\r\nTermin 2: 11:00 - 16:00 Uhr\r\n\r\nDas Naturzentrum Rheinauen und die Gemeinde Kappel-\r\nGrafenhausen laden gemeinsam mit dem Amt für Waldwirtschaft\r\ndes Ortenaukreises sowie ForstBW zum fünften „Familientag im\r\nTaubergießen“ ein. Kinder und Familien erwartet ein abwechslungsreicher\r\nAusflug\, bei dem sie die faszinierende Pflanzen- und\r\nTierwelt des Naturschutzgebiets Taubergießen entdecken können.\r\nDie Teilnehmer erkunden das Gebiet zwischen Rust und Kappel-\r\nGrafenhausen auf einer waldpädagogischen Tour – zu Fuß ebenso\r\nwie zu Wasser. Der Tag beginnt am Naturzentrum Rheinauen\,\r\nwo ein Ranger der Gemeinde Rust die Gruppe willkommen heißt\r\nund mit ihr auf Entdeckungsreise geht: wahlweise am hauseigenen\r\nSee oder durch den Klimawandelgarten.\r\nUnterstützt wird der Ranger von Waldpädagogen der Forstverwaltung.\r\nGemeinsam mit ihnen taucht die Gruppe in einen beinahe\r\ndschungelartigen Waldpfad ein\, auf dem sich viele typische Bewohner\r\ndes Auwalds entdecken lassen. Anschließend wartet eine\r\nrund zweistündige Stocherkahnfahrt mit spannenden Einblicken\r\nin die Geschichte\, sowie in die vielfältige Flora und Fauna des\r\nNaturschutzgebiets. Auch für das Vespern und Ausruhen verbleibt\r\ngenügend Zeit.\r\nNaturpädagogische Spiele laden dazu ein\, mehr über die kleinen\r\nund großen Tiere der „Wilden Weiden“ zu erfahren. Ein schöner\r\nAbschluss\, der nachhaltig in Erinnerung bleiben soll.\r\nDie Teilnahme ist nur mit vorheriger Anmeldung\r\nvom 24.03.2026 bis 09.04.2026 möglich.
URL;VALUE=URI:https://www.unser-ferienprogramm.de/naturzentrum-rheinauen/veranstaltung.php?id=310611
SUMMARY:Termin 2 von 2 Familientag in Zusammenarbeit mit Landratsamt und Forst BW
DTSTART;TZID=Europe/Berlin:20260425T110000
END:VEVENT

END:VCALENDAR
