BEGIN:VCALENDAR
VERSION:2.0
PRODID:-//hacksw/handcal//NONSGML v1.0//EN
CALSCALE:GREGORIAN
BEGIN:VTIMEZONE
TZID:Europe/Berlin
X-LIC-LOCATION:Europe/Berlin
BEGIN:DAYLIGHT
TZOFFSETFROM:+0100
TZOFFSETTO:+0200
TZNAME:CEST
DTSTART:19700329T020000
RRULE:FREQ=YEARLY;BYDAY=-1SU;BYMONTH=3
END:DAYLIGHT
BEGIN:STANDARD
TZOFFSETFROM:+0200
TZOFFSETTO:+0100
TZNAME:CET
DTSTART:19701025T030000
RRULE:FREQ=YEARLY;BYDAY=-1SU;BYMONTH=10
END:STANDARD
END:VTIMEZONE
BEGIN:VEVENT
DTEND;TZID=Europe/Berlin:20260920T180000
UID:69e6acfd6997e
DTSTAMP:20260421T004725
LOCATION:Naturzentrum Rheinauen
DESCRIPTION:Herbstlich Willkommen zum 15. Herbstfest des Naturzentrums Rheinauen. In Kooperation mit "einfach helfen e.V." erwartet Sie\, in schöner Naturatmosphäre am Allmendsee\, ein toller Nachmittag mit buntem und erlebnispädagogischem Programm. Das kleine Getränke- und Speiseangebot runden diesen Familientag perfekt ab. Der Gesamterlös der Veranstaltung kommt dem Verein "einfach helfen e.V." zugute.\r\n
URL;VALUE=URI:https://www.unser-ferienprogramm.de/naturzentrum-rheinauen/veranstaltung.php?id=304212
SUMMARY:15. Herbstfest "einfach helfen e.V."
DTSTART;TZID=Europe/Berlin:20260920T110000
END:VEVENT

END:VCALENDAR
