BEGIN:VCALENDAR
VERSION:2.0
PRODID:-//hacksw/handcal//NONSGML v1.0//EN
CALSCALE:GREGORIAN
BEGIN:VTIMEZONE
TZID:Europe/Berlin
X-LIC-LOCATION:Europe/Berlin
BEGIN:DAYLIGHT
TZOFFSETFROM:+0100
TZOFFSETTO:+0200
TZNAME:CEST
DTSTART:19700329T020000
RRULE:FREQ=YEARLY;BYDAY=-1SU;BYMONTH=3
END:DAYLIGHT
BEGIN:STANDARD
TZOFFSETFROM:+0200
TZOFFSETTO:+0100
TZNAME:CET
DTSTART:19701025T030000
RRULE:FREQ=YEARLY;BYDAY=-1SU;BYMONTH=10
END:STANDARD
END:VTIMEZONE
BEGIN:VEVENT
DTEND;TZID=Europe/Berlin:20260619T170000
UID:69e6a8cc7c02c
DTSTAMP:20260421T002932
LOCATION:Naturzentrum Rheinauen
DESCRIPTION:Gemeinsam erforschen wir den Wasserkreislauf\, entnehmen Grundwasserproben und analysieren diese mit passendem Equipment. Wir messen verschiedene Wasserparameter und beobachten winzige Lebewesen unter dem Mikroskop - Diese Veranstaltung findet im Rahmen der Kooperation mit der Rheinland-Pfälzische Technische Universität (RPTU) Kaiserslautern-Landau statt.
URL;VALUE=URI:https://www.unser-ferienprogramm.de/naturzentrum-rheinauen/veranstaltung.php?id=304030
SUMMARY:Rangerworkshop: Grundwasser - der verborgene Lebensraum
DTSTART;TZID=Europe/Berlin:20260619T143000
END:VEVENT

END:VCALENDAR
