BEGIN:VCALENDAR
VERSION:2.0
PRODID:-//hacksw/handcal//NONSGML v1.0//EN
CALSCALE:GREGORIAN
BEGIN:VTIMEZONE
TZID:Europe/Berlin
X-LIC-LOCATION:Europe/Berlin
BEGIN:DAYLIGHT
TZOFFSETFROM:+0100
TZOFFSETTO:+0200
TZNAME:CEST
DTSTART:19700329T020000
RRULE:FREQ=YEARLY;BYDAY=-1SU;BYMONTH=3
END:DAYLIGHT
BEGIN:STANDARD
TZOFFSETFROM:+0200
TZOFFSETTO:+0100
TZNAME:CET
DTSTART:19701025T030000
RRULE:FREQ=YEARLY;BYDAY=-1SU;BYMONTH=10
END:STANDARD
END:VTIMEZONE
BEGIN:VEVENT
DTEND;TZID=Europe/Berlin:20260610T180000
UID:69e694393a24e
DTSTAMP:20260420T230145
LOCATION:Naturzentrum Rheinauen
DESCRIPTION:Möchten Sie lernen\, im Notfall schnell und richtig zu handeln?\r\nIn Zusammenarbeit mit heimburger-erstehilfe bietet das Naturzentrum\r\nRheinauen einen praxisnahen Kurs zur Handhabung\r\neines Defibrillators an. Sie erfahren\, wie ein Defibrillator funktioniert\,\r\nwelche Maßnahmen bei einem Herzstillstand notwendig\r\nsind und wie Sie den Defibrillator sicher und effektiv einsetzen.\r\nDurch praxisnahe Übungen gewinnen Sie Sicherheit im Umgang\r\nmit dem Gerät und werden im Ernstfall\r\nzum souveränen Helfer.\r\n
URL;VALUE=URI:https://www.unser-ferienprogramm.de/naturzentrum-rheinauen/veranstaltung.php?id=304019
SUMMARY:Defibrillator-Kurs
DTSTART;TZID=Europe/Berlin:20260610T160000
END:VEVENT

END:VCALENDAR
