BEGIN:VCALENDAR
VERSION:2.0
PRODID:-//hacksw/handcal//NONSGML v1.0//EN
CALSCALE:GREGORIAN
BEGIN:VTIMEZONE
TZID:Europe/Berlin
X-LIC-LOCATION:Europe/Berlin
BEGIN:DAYLIGHT
TZOFFSETFROM:+0100
TZOFFSETTO:+0200
TZNAME:CEST
DTSTART:19700329T020000
RRULE:FREQ=YEARLY;BYDAY=-1SU;BYMONTH=3
END:DAYLIGHT
BEGIN:STANDARD
TZOFFSETFROM:+0200
TZOFFSETTO:+0100
TZNAME:CET
DTSTART:19701025T030000
RRULE:FREQ=YEARLY;BYDAY=-1SU;BYMONTH=10
END:STANDARD
END:VTIMEZONE
BEGIN:VEVENT
DTEND;TZID=Europe/Berlin:20260603T123000
UID:69e694384a48b
DTSTAMP:20260420T230144
LOCATION:Naturzentrum Rheinauen
DESCRIPTION:Entdecke mit Anatol\, dem kleinen Waldschein\, den Klimagarten mit allen Sinnen! Lerne spielerisch etwas über Wetter\, Kräuter und Natur – und habe dabei jede Menge Spaß. 
URL;VALUE=URI:https://www.unser-ferienprogramm.de/naturzentrum-rheinauen/veranstaltung.php?id=304018
SUMMARY:Groß-/Eltern-Kind: Mit Anatol den Klimawandelgarten entdecken (4-6 Jahre mit Begleitung)
DTSTART;TZID=Europe/Berlin:20260603T100000
END:VEVENT

END:VCALENDAR
