BEGIN:VCALENDAR
VERSION:2.0
PRODID:-//hacksw/handcal//NONSGML v1.0//EN
CALSCALE:GREGORIAN
BEGIN:VTIMEZONE
TZID:Europe/Berlin
X-LIC-LOCATION:Europe/Berlin
BEGIN:DAYLIGHT
TZOFFSETFROM:+0100
TZOFFSETTO:+0200
TZNAME:CEST
DTSTART:19700329T020000
RRULE:FREQ=YEARLY;BYDAY=-1SU;BYMONTH=3
END:DAYLIGHT
BEGIN:STANDARD
TZOFFSETFROM:+0200
TZOFFSETTO:+0100
TZNAME:CET
DTSTART:19701025T030000
RRULE:FREQ=YEARLY;BYDAY=-1SU;BYMONTH=10
END:STANDARD
END:VTIMEZONE
BEGIN:VEVENT
DTEND;TZID=Europe/Berlin:20260601T123000
UID:69e69438b7d5b
DTSTAMP:20260420T230144
LOCATION:Naturzentrum Rheinauen
DESCRIPTION:Heute entdecken wir spannende Geheimnisse rund um Rudi\, den Regenwurm! Wir fragen uns: Hat Rudi Augen? Kann er Töne hören? Und kann er tatsächlich husten? Zusammen finden wir heraus\, wie Regenwürmer leben und warum sie richtig wichtig für die Natur sind. Am Ende basteln wir einen niedlichen Regenwurm in der Holzwerkstatt!
URL;VALUE=URI:https://www.unser-ferienprogramm.de/naturzentrum-rheinauen/veranstaltung.php?id=304016
SUMMARY:Rangerworkshop: Rudi der Regenwurm
DTSTART;TZID=Europe/Berlin:20260601T100000
END:VEVENT

END:VCALENDAR
