BEGIN:VCALENDAR
VERSION:2.0
PRODID:-//hacksw/handcal//NONSGML v1.0//EN
CALSCALE:GREGORIAN
BEGIN:VTIMEZONE
TZID:Europe/Berlin
X-LIC-LOCATION:Europe/Berlin
BEGIN:DAYLIGHT
TZOFFSETFROM:+0100
TZOFFSETTO:+0200
TZNAME:CEST
DTSTART:19700329T020000
RRULE:FREQ=YEARLY;BYDAY=-1SU;BYMONTH=3
END:DAYLIGHT
BEGIN:STANDARD
TZOFFSETFROM:+0200
TZOFFSETTO:+0100
TZNAME:CET
DTSTART:19701025T030000
RRULE:FREQ=YEARLY;BYDAY=-1SU;BYMONTH=10
END:STANDARD
END:VTIMEZONE
BEGIN:VEVENT
DTEND;TZID=Europe/Berlin:20260528T123000
UID:69e69490c7101
DTSTAMP:20260420T230312
LOCATION:Naturzentrum Rheinauen
DESCRIPTION:Oh Schreck! Marienkäfer Franz hat seine Punkte verloren – doch keine Sorge\, gemeinsam helfen wir ihm\, sie wiederzufinden! Wir machen uns auf zu einer spannenden Rallye voller Spaß und Abenteuer. Anschließend basteln wir einen\r\nkleinen Marienkäfer\, den du mit nach Hause nehmen darfst.
URL;VALUE=URI:https://www.unser-ferienprogramm.de/naturzentrum-rheinauen/veranstaltung.php?id=303923
SUMMARY:Groß-/Eltern-Kind: Marienkäfer Franz sucht seine Punkte (3-5 Jahre mit Begleitperson)
DTSTART;TZID=Europe/Berlin:20260528T100000
END:VEVENT

END:VCALENDAR
