BEGIN:VCALENDAR
VERSION:2.0
PRODID:-//hacksw/handcal//NONSGML v1.0//EN
CALSCALE:GREGORIAN
BEGIN:VTIMEZONE
TZID:Europe/Berlin
X-LIC-LOCATION:Europe/Berlin
BEGIN:DAYLIGHT
TZOFFSETFROM:+0100
TZOFFSETTO:+0200
TZNAME:CEST
DTSTART:19700329T020000
RRULE:FREQ=YEARLY;BYDAY=-1SU;BYMONTH=3
END:DAYLIGHT
BEGIN:STANDARD
TZOFFSETFROM:+0200
TZOFFSETTO:+0100
TZNAME:CET
DTSTART:19701025T030000
RRULE:FREQ=YEARLY;BYDAY=-1SU;BYMONTH=10
END:STANDARD
END:VTIMEZONE
BEGIN:VEVENT
DTEND;TZID=Europe/Berlin:20260527T123000
UID:69e6947a2ed70
DTSTAMP:20260420T230250
LOCATION:Naturzentrum Rheinauen
DESCRIPTION:Die Samen des Löwenzahns sind kleine Meisterwerke der Natur. Mit Lupe und Sammelkorb begeben wir uns auf eine spannende Entdeckungsreise. Zusammen schauen wir\, was man mit der Pusteblume alles anstellen kann.
URL;VALUE=URI:https://www.unser-ferienprogramm.de/naturzentrum-rheinauen/veranstaltung.php?id=303920
SUMMARY:Kinder-Kräuterwerkstatt: Von Löwenzähnen und fliegenden Schirmchen…
DTSTART;TZID=Europe/Berlin:20260527T100000
END:VEVENT

END:VCALENDAR
