BEGIN:VCALENDAR
VERSION:2.0
PRODID:-//hacksw/handcal//NONSGML v1.0//EN
CALSCALE:GREGORIAN
BEGIN:VTIMEZONE
TZID:Europe/Berlin
X-LIC-LOCATION:Europe/Berlin
BEGIN:DAYLIGHT
TZOFFSETFROM:+0100
TZOFFSETTO:+0200
TZNAME:CEST
DTSTART:19700329T020000
RRULE:FREQ=YEARLY;BYDAY=-1SU;BYMONTH=3
END:DAYLIGHT
BEGIN:STANDARD
TZOFFSETFROM:+0200
TZOFFSETTO:+0100
TZNAME:CET
DTSTART:19701025T030000
RRULE:FREQ=YEARLY;BYDAY=-1SU;BYMONTH=10
END:STANDARD
END:VTIMEZONE
BEGIN:VEVENT
DTEND;TZID=Europe/Berlin:20260526T123000
UID:69e69479c3616
DTSTAMP:20260420T230249
LOCATION:Naturzentrum Rheinauen
DESCRIPTION:Der Traumfänger wird als schützendes Amulett über dem Bett aufgehängt. Die Legende besagt\, dass das filigrane Netz die guten Träume hindurchgleiten lässt und die schlechten Träume einfängt\, sodass sie im ersten Morgenlicht verschwinden. Mit Materialien\, die du selbst in der Natur sammelst\, kannst du dir einen ganz persönlichen Traumfänger gestalten – ein Symbol für Wohlbefinden und innere Ruhe.
URL;VALUE=URI:https://www.unser-ferienprogramm.de/naturzentrum-rheinauen/veranstaltung.php?id=303919
SUMMARY:Holz- und Kreativwerkstatt: Traumfänger aus Naturmaterialien 
DTSTART;TZID=Europe/Berlin:20260526T100000
END:VEVENT

END:VCALENDAR
