BEGIN:VCALENDAR
VERSION:2.0
PRODID:-//hacksw/handcal//NONSGML v1.0//EN
CALSCALE:GREGORIAN
BEGIN:VTIMEZONE
TZID:Europe/Berlin
X-LIC-LOCATION:Europe/Berlin
BEGIN:DAYLIGHT
TZOFFSETFROM:+0100
TZOFFSETTO:+0200
TZNAME:CEST
DTSTART:19700329T020000
RRULE:FREQ=YEARLY;BYDAY=-1SU;BYMONTH=3
END:DAYLIGHT
BEGIN:STANDARD
TZOFFSETFROM:+0200
TZOFFSETTO:+0100
TZNAME:CET
DTSTART:19701025T030000
RRULE:FREQ=YEARLY;BYDAY=-1SU;BYMONTH=10
END:STANDARD
END:VTIMEZONE
BEGIN:VEVENT
DTEND;TZID=Europe/Berlin:20260511T180000
UID:69e6949052b65
DTSTAMP:20260420T230312
LOCATION:Naturzentrum Rheinauen
DESCRIPTION:Die erste Mahd gefährdet die im hohen Gras versteckten Rehkitze. Doch mit Drohnen und Wärmebildtechnik können sie geschützt werden. Die Kitzrettung Ortenau zeigt euch\, wie junge Rehe\, Hasen und Gelege von Bodenbrütern sicher gerettet werden können.
URL;VALUE=URI:https://www.unser-ferienprogramm.de/naturzentrum-rheinauen/veranstaltung.php?id=303911
SUMMARY:Rangerworkshop: Kitzrettung 
DTSTART;TZID=Europe/Berlin:20260511T153000
END:VEVENT

END:VCALENDAR
