BEGIN:VCALENDAR
VERSION:2.0
PRODID:-//hacksw/handcal//NONSGML v1.0//EN
CALSCALE:GREGORIAN
BEGIN:VTIMEZONE
TZID:Europe/Berlin
X-LIC-LOCATION:Europe/Berlin
BEGIN:DAYLIGHT
TZOFFSETFROM:+0100
TZOFFSETTO:+0200
TZNAME:CEST
DTSTART:19700329T020000
RRULE:FREQ=YEARLY;BYDAY=-1SU;BYMONTH=3
END:DAYLIGHT
BEGIN:STANDARD
TZOFFSETFROM:+0200
TZOFFSETTO:+0100
TZNAME:CET
DTSTART:19701025T030000
RRULE:FREQ=YEARLY;BYDAY=-1SU;BYMONTH=10
END:STANDARD
END:VTIMEZONE
BEGIN:VEVENT
DTEND;TZID=Europe/Berlin:20260509T160000
UID:69e6972bac648
DTSTAMP:20260420T231419
LOCATION:Naturzentrum Rheinauen
DESCRIPTION:Das Naturzentrum Rheinauen und Heimburger-Erste-Hilfe\, bieten einen ganz besonderen Erste-Hilfe-Kurs an\, der dich fit macht für Notlagen abseits der Zivilisation. Durch solche spezialisierten Erste-Hilfe-Kurse wird nicht nur das persönliche Sicherheitsgefühl gestärkt\, sondern auch die Fähigkeit\, anderen in Notlagen zu helfen. Besonders für Naturfreunde ist es wichtig\, vorbereitet zu sein\, um im Ernstfall effektiv reagieren zu können. Der Kurs findet in der freien Natur statt. Es sind keine Vorkenntnisse erforderlich.
URL;VALUE=URI:https://www.unser-ferienprogramm.de/naturzentrum-rheinauen/veranstaltung.php?id=303903
SUMMARY:Outdoor Erste-Hilfe-Kurs ab 16 Jahren
DTSTART;TZID=Europe/Berlin:20260509T080000
END:VEVENT

END:VCALENDAR
