BEGIN:VCALENDAR
VERSION:2.0
PRODID:-//hacksw/handcal//NONSGML v1.0//EN
CALSCALE:GREGORIAN
BEGIN:VTIMEZONE
TZID:Europe/Berlin
X-LIC-LOCATION:Europe/Berlin
BEGIN:DAYLIGHT
TZOFFSETFROM:+0100
TZOFFSETTO:+0200
TZNAME:CEST
DTSTART:19700329T020000
RRULE:FREQ=YEARLY;BYDAY=-1SU;BYMONTH=3
END:DAYLIGHT
BEGIN:STANDARD
TZOFFSETFROM:+0200
TZOFFSETTO:+0100
TZNAME:CET
DTSTART:19701025T030000
RRULE:FREQ=YEARLY;BYDAY=-1SU;BYMONTH=10
END:STANDARD
END:VTIMEZONE
BEGIN:VEVENT
DTEND;TZID=Europe/Berlin:20260508T170000
UID:69e6ac3dd37ca
DTSTAMP:20260421T004413
LOCATION:Naturzentrum Rheinauen
DESCRIPTION:Mit ein wenig Kreativität\, ganz viel Liebe und etwas tatkräftiger Unterstützung entsteht ein zauberhaftes\, persönliches Geschenk zum Muttertag. Gemeinsam basteln wir eine wunderschöne Überraschung\, die deiner Mama garantiert ein Lächeln ins Gesicht zaubert. 
URL;VALUE=URI:https://www.unser-ferienprogramm.de/naturzentrum-rheinauen/veranstaltung.php?id=303899
SUMMARY:Holz- und Kreativwerkstatt: Muttertagsgeschenk selbst basteln
DTSTART;TZID=Europe/Berlin:20260508T143000
END:VEVENT

END:VCALENDAR
