BEGIN:VCALENDAR
VERSION:2.0
PRODID:-//hacksw/handcal//NONSGML v1.0//EN
CALSCALE:GREGORIAN
BEGIN:VTIMEZONE
TZID:Europe/Berlin
X-LIC-LOCATION:Europe/Berlin
BEGIN:DAYLIGHT
TZOFFSETFROM:+0100
TZOFFSETTO:+0200
TZNAME:CEST
DTSTART:19700329T020000
RRULE:FREQ=YEARLY;BYDAY=-1SU;BYMONTH=3
END:DAYLIGHT
BEGIN:STANDARD
TZOFFSETFROM:+0200
TZOFFSETTO:+0100
TZNAME:CET
DTSTART:19701025T030000
RRULE:FREQ=YEARLY;BYDAY=-1SU;BYMONTH=10
END:STANDARD
END:VTIMEZONE
BEGIN:VEVENT
DTEND;TZID=Europe/Berlin:20260430T170000
UID:69e696652d092
DTSTAMP:20260420T231101
LOCATION:Naturzentrum Rheinauen
DESCRIPTION:Rehe\, Hasen\, Wildschweine ... - alle Tiere hinterlassen ihre Spuren im Wald. Anhand dieser Hinweise lernen wir die heimische Tierwelt kennen und erfahren von unserem Ranger\, wo und wie die Tiere leben. Dabei begegnen uns sicherlich auch kleine Krabbeltiere\, die ebenfalls sehr wichtig für den Lebensraum Wald sind.
URL;VALUE=URI:https://www.unser-ferienprogramm.de/naturzentrum-rheinauen/veranstaltung.php?id=303532
SUMMARY:NaturErlebnisTage 2026 - Tiere im Visier: Lebensraum Wald
DTSTART;TZID=Europe/Berlin:20260430T143000
END:VEVENT

END:VCALENDAR
