BEGIN:VCALENDAR
VERSION:2.0
PRODID:-//hacksw/handcal//NONSGML v1.0//EN
CALSCALE:GREGORIAN
BEGIN:VTIMEZONE
TZID:Europe/Berlin
X-LIC-LOCATION:Europe/Berlin
BEGIN:DAYLIGHT
TZOFFSETFROM:+0100
TZOFFSETTO:+0200
TZNAME:CEST
DTSTART:19700329T020000
RRULE:FREQ=YEARLY;BYDAY=-1SU;BYMONTH=3
END:DAYLIGHT
BEGIN:STANDARD
TZOFFSETFROM:+0200
TZOFFSETTO:+0100
TZNAME:CET
DTSTART:19701025T030000
RRULE:FREQ=YEARLY;BYDAY=-1SU;BYMONTH=10
END:STANDARD
END:VTIMEZONE
BEGIN:VEVENT
DTEND;TZID=Europe/Berlin:20260613T123000
UID:69e69700a20eb
DTSTAMP:20260420T231336
LOCATION:
DESCRIPTION:Rangerworkshop: Tiere im Visier - Im Wasser ist was los!\r\n\r\nDas Naturzentrum spürt mit euch den Lebensraum Wasser mit all seinen großen und kleinen Bewohnern auf. Mithilfe von Keschern und Becherlupen können wir die interessantesten Tierchen genauer betrachten und lernen zusammen mit einem Ranger\, was die Wasserbewohner so besonders macht.\r\n\r\nWir starten um 10:00 Uhr direkt am Naturzentrum. Bitte an wetterangepasste Kleidung und Sonnenschutz denken.\r\n\r\nMitmachen können alle Kinder zwischen 6 und 12 Jahren. Unkostenbeitrag: 5 €.\r\n\r\nAnmeldung erforderlich.
URL;VALUE=URI:https://www.unser-ferienprogramm.de/naturzentrum-rheinauen/veranstaltung.php?id=303409
SUMMARY:Tag der Artenvielfalt - Tiere im Visier... Im Wasser ist was los
DTSTART;TZID=Europe/Berlin:20260613T100000
END:VEVENT

END:VCALENDAR
