BEGIN:VCALENDAR
VERSION:2.0
PRODID:-//hacksw/handcal//NONSGML v1.0//EN
CALSCALE:GREGORIAN
BEGIN:VTIMEZONE
TZID:Europe/Berlin
X-LIC-LOCATION:Europe/Berlin
BEGIN:DAYLIGHT
TZOFFSETFROM:+0100
TZOFFSETTO:+0200
TZNAME:CEST
DTSTART:19700329T020000
RRULE:FREQ=YEARLY;BYDAY=-1SU;BYMONTH=3
END:DAYLIGHT
BEGIN:STANDARD
TZOFFSETFROM:+0200
TZOFFSETTO:+0100
TZNAME:CET
DTSTART:19701025T030000
RRULE:FREQ=YEARLY;BYDAY=-1SU;BYMONTH=10
END:STANDARD
END:VTIMEZONE
BEGIN:VEVENT
DTEND;TZID=Europe/Berlin:20260430T193000
UID:69e696648ff60
DTSTAMP:20260420T231100
LOCATION:Naturzentrum Rheinauen
DESCRIPTION:Hexengeister aufgepasst! Komm mit uns auf die Walpurgisnacht\r\nwie bei der kleinen Hexe von Otfried Preußler! Lasst uns feiern\r\nwie die Hexen auf dem Blocksberg. Gemeinsam zaubern wir leckere\r\nKöstlichkeiten am Lagerfeuer und basteln unseren eigenen\r\nmagischen Besen. Verkleide dich als Hexe oder Zauberer und\r\nerlebe einen zauberhaften Nachmittag voller Spaß und Abenteuer.\r\n
URL;VALUE=URI:https://www.unser-ferienprogramm.de/naturzentrum-rheinauen/veranstaltung.php?id=300855
SUMMARY:Rangerworkshop: Heia Walpurgisnacht
DTSTART;TZID=Europe/Berlin:20260430T170000
END:VEVENT

END:VCALENDAR
