BEGIN:VCALENDAR
VERSION:2.0
PRODID:-//hacksw/handcal//NONSGML v1.0//EN
CALSCALE:GREGORIAN
BEGIN:VTIMEZONE
TZID:Europe/Berlin
X-LIC-LOCATION:Europe/Berlin
BEGIN:DAYLIGHT
TZOFFSETFROM:+0100
TZOFFSETTO:+0200
TZNAME:CEST
DTSTART:19700329T020000
RRULE:FREQ=YEARLY;BYDAY=-1SU;BYMONTH=3
END:DAYLIGHT
BEGIN:STANDARD
TZOFFSETFROM:+0200
TZOFFSETTO:+0100
TZNAME:CET
DTSTART:19701025T030000
RRULE:FREQ=YEARLY;BYDAY=-1SU;BYMONTH=10
END:STANDARD
END:VTIMEZONE
BEGIN:VEVENT
DTEND;TZID=Europe/Berlin:20260515T173000
UID:69e698cdf0523
DTSTAMP:20260420T232117
LOCATION:Naturzentrum Rheinauen
DESCRIPTION:Baue dein eigenes Insektenhotel! Gemeinsam mit unserem\r\nRanger gestaltest du geschützte Wohnräume für Bienen und\r\nandere Insekten und erfährst nebenbei spannende Geschichten\r\nüber die kleinen Helfer\, die unser Ökosystem\r\nlebendig halten.\r\n
URL;VALUE=URI:https://www.unser-ferienprogramm.de/naturzentrum-rheinauen/veranstaltung.php?id=300854
SUMMARY:Holz- und Kreativwerkstatt: Insektenhotel für Bienen & Co (Ersatztermin)
DTSTART;TZID=Europe/Berlin:20260515T150000
END:VEVENT

END:VCALENDAR
