BEGIN:VCALENDAR
VERSION:2.0
PRODID:-//hacksw/handcal//NONSGML v1.0//EN
CALSCALE:GREGORIAN
BEGIN:VTIMEZONE
TZID:Europe/Berlin
X-LIC-LOCATION:Europe/Berlin
BEGIN:DAYLIGHT
TZOFFSETFROM:+0100
TZOFFSETTO:+0200
TZNAME:CEST
DTSTART:19700329T020000
RRULE:FREQ=YEARLY;BYDAY=-1SU;BYMONTH=3
END:DAYLIGHT
BEGIN:STANDARD
TZOFFSETFROM:+0200
TZOFFSETTO:+0100
TZNAME:CET
DTSTART:19701025T030000
RRULE:FREQ=YEARLY;BYDAY=-1SU;BYMONTH=10
END:STANDARD
END:VTIMEZONE
BEGIN:VEVENT
DTEND;TZID=Europe/Berlin:20260422T193000
UID:69e69768e2ada
DTSTAMP:20260420T231520
LOCATION:Naturzentrum Rheinauen
DESCRIPTION:Vortrag am Mittwoch\, 22.04.2026\, um 18 Uhr zum Thema Wildschaden im Feld für Jäger\, Landwirte und alle Interessierten im Naturzentrum Rheinauen in Rust. Der Eintritt ist frei\, eine Voranmeldung ist erforderlich. Simon Metz\, Landesobmann für Wildschäden vom Landesjagdverband\, informiert über Möglichkeiten zur Vermeidung von Schäden und Regelungen im Schadensfall. Im Anschluss besteht die Möglichkeit für Fragen und Diskussionen.
URL;VALUE=URI:https://www.unser-ferienprogramm.de/naturzentrum-rheinauen/veranstaltung.php?id=300852
SUMMARY:Vortrag zum Thema: Wildschäden
DTSTART;TZID=Europe/Berlin:20260422T180000
END:VEVENT

END:VCALENDAR
