BEGIN:VCALENDAR
VERSION:2.0
PRODID:-//hacksw/handcal//NONSGML v1.0//EN
CALSCALE:GREGORIAN
BEGIN:VTIMEZONE
TZID:Europe/Berlin
X-LIC-LOCATION:Europe/Berlin
BEGIN:DAYLIGHT
TZOFFSETFROM:+0100
TZOFFSETTO:+0200
TZNAME:CEST
DTSTART:19700329T020000
RRULE:FREQ=YEARLY;BYDAY=-1SU;BYMONTH=3
END:DAYLIGHT
BEGIN:STANDARD
TZOFFSETFROM:+0200
TZOFFSETTO:+0100
TZNAME:CET
DTSTART:19701025T030000
RRULE:FREQ=YEARLY;BYDAY=-1SU;BYMONTH=10
END:STANDARD
END:VTIMEZONE
BEGIN:VEVENT
DTEND;TZID=Europe/Berlin:20260708T210000
UID:69e6ac629faf8
DTSTAMP:20260421T004450
LOCATION:
DESCRIPTION:Wollen Sie Ihre Sommerdekoration dieses Jahr selbst basteln? Fehlen Ihnen noch die passenden Ideen? Dann haben wir möglicherweise den richtigen Vorschlag aus der Holzwerkstatt für Sie. Für den Sommer bauen wir in der Holzwerkstatt etwas Schönes zum Dekorieren - einfach\, natürlich\, schön. 
URL;VALUE=URI:https://www.unser-ferienprogramm.de/naturzentrum-rheinauen/veranstaltung.php?id=296451
SUMMARY:VHS Lahr - Holzwerkstatt für Frauen: Sommerdekoration
DTSTART;TZID=Europe/Berlin:20260708T180000
END:VEVENT

END:VCALENDAR
