BEGIN:VCALENDAR
VERSION:2.0
PRODID:-//hacksw/handcal//NONSGML v1.0//EN
CALSCALE:GREGORIAN
BEGIN:VTIMEZONE
TZID:Europe/Berlin
X-LIC-LOCATION:Europe/Berlin
BEGIN:DAYLIGHT
TZOFFSETFROM:+0100
TZOFFSETTO:+0200
TZNAME:CEST
DTSTART:19700329T020000
RRULE:FREQ=YEARLY;BYDAY=-1SU;BYMONTH=3
END:DAYLIGHT
BEGIN:STANDARD
TZOFFSETFROM:+0200
TZOFFSETTO:+0100
TZNAME:CET
DTSTART:19701025T030000
RRULE:FREQ=YEARLY;BYDAY=-1SU;BYMONTH=10
END:STANDARD
END:VTIMEZONE
BEGIN:VEVENT
DTEND;TZID=Europe/Berlin:20260630T160000
UID:69e755c4d599a
DTSTAMP:20260421T124732
LOCATION:Gersprenzhalle Münster
DESCRIPTION:Spätbetreuung für 2. Woche Donnerstag
URL;VALUE=URI:https://www.unser-ferienprogramm.de/muenster-hessen/veranstaltung.php?id=315418
SUMMARY:Spätbetreuung 1. Woche Dienstag Ferienspiele 2026
DTSTART;TZID=Europe/Berlin:20260630T150000
END:VEVENT

END:VCALENDAR
