BEGIN:VCALENDAR
VERSION:2.0
PRODID:-//hacksw/handcal//NONSGML v1.0//EN
CALSCALE:GREGORIAN
BEGIN:VTIMEZONE
TZID:Europe/Berlin
X-LIC-LOCATION:Europe/Berlin
BEGIN:DAYLIGHT
TZOFFSETFROM:+0100
TZOFFSETTO:+0200
TZNAME:CEST
DTSTART:19700329T020000
RRULE:FREQ=YEARLY;BYDAY=-1SU;BYMONTH=3
END:DAYLIGHT
BEGIN:STANDARD
TZOFFSETFROM:+0200
TZOFFSETTO:+0100
TZNAME:CET
DTSTART:19701025T030000
RRULE:FREQ=YEARLY;BYDAY=-1SU;BYMONTH=10
END:STANDARD
END:VTIMEZONE
BEGIN:VEVENT
DTEND;TZID=Europe/Berlin:20260703T090000
UID:69e751fed4b03
DTSTAMP:20260421T123126
LOCATION:Gersprenzhalle Münster
DESCRIPTION:Frühbetreuung Ferienspiele \r\n1. Woche Freitag\r\nDiese Frühbetreuung kann kurzfristig bis eine Woche vor Beginn der Ferienspiele gebucht werden.
URL;VALUE=URI:https://www.unser-ferienprogramm.de/muenster-hessen/veranstaltung.php?id=296297
SUMMARY:Frühbetreuung 1. Woche Freitag Ferienspiele 2026
DTSTART;TZID=Europe/Berlin:20260703T080000
END:VEVENT

END:VCALENDAR
