BEGIN:VCALENDAR
VERSION:2.0
PRODID:-//hacksw/handcal//NONSGML v1.0//EN
CALSCALE:GREGORIAN
BEGIN:VTIMEZONE
TZID:Europe/Berlin
X-LIC-LOCATION:Europe/Berlin
BEGIN:DAYLIGHT
TZOFFSETFROM:+0100
TZOFFSETTO:+0200
TZNAME:CEST
DTSTART:19700329T020000
RRULE:FREQ=YEARLY;BYDAY=-1SU;BYMONTH=3
END:DAYLIGHT
BEGIN:STANDARD
TZOFFSETFROM:+0200
TZOFFSETTO:+0100
TZNAME:CET
DTSTART:19701025T030000
RRULE:FREQ=YEARLY;BYDAY=-1SU;BYMONTH=10
END:STANDARD
END:VTIMEZONE
BEGIN:VEVENT
DTEND;TZID=Europe/Berlin:20260806T180000
UID:69eb1ea03001c
DTSTAMP:20260424T094120
LOCATION:Wengerstraße 11a 84164 Rimbach
DESCRIPTION:Stocktraining mit Zielschießen\r\nund Miniturnier\, anschließend Grillen und Limo
URL;VALUE=URI:https://www.unser-ferienprogramm.de/moosthenning/veranstaltung.php?id=311774
SUMMARY:Schnuppertraining Stockschießen 
DTSTART;TZID=Europe/Berlin:20260806T150000
END:VEVENT

END:VCALENDAR
