BEGIN:VCALENDAR
VERSION:2.0
PRODID:-//hacksw/handcal//NONSGML v1.0//EN
CALSCALE:GREGORIAN
BEGIN:VTIMEZONE
TZID:Europe/Berlin
X-LIC-LOCATION:Europe/Berlin
BEGIN:DAYLIGHT
TZOFFSETFROM:+0100
TZOFFSETTO:+0200
TZNAME:CEST
DTSTART:19700329T020000
RRULE:FREQ=YEARLY;BYDAY=-1SU;BYMONTH=3
END:DAYLIGHT
BEGIN:STANDARD
TZOFFSETFROM:+0200
TZOFFSETTO:+0100
TZNAME:CET
DTSTART:19701025T030000
RRULE:FREQ=YEARLY;BYDAY=-1SU;BYMONTH=10
END:STANDARD
END:VTIMEZONE
BEGIN:VEVENT
DTEND;TZID=Europe/Berlin:20260805T160000
UID:69eb1da804f15
DTSTAMP:20260424T093712
LOCATION:Tundinger Str. 5\, 84164 Moosthenning (Unterhollerau)
DESCRIPTION:Im Seniorenzentrum Viertel 4 in Moosthenning veranstalten wir heuer einen Spielenachmitag für Jung und Alt. \r\n\r\nDort verbringen die Kinder gemeinsam mit den Bewohnerinnen und Bewohnern einen fröhlichen Nachmittag mit Spielen\, Vorlesen und gemeinsamen Aktionen im Garten.\r\n\r\nIm liebevoll gestalteten Außenbereich kümmern sich Kinder und Seniorinnen und Senioren zusammen um die Hochbeete\, säen\, pflanzen und entdecken wie Gemüse und Kräuter wachsen. Drinnen werden Geschichten vorgelesen\, Gesellschaftsspiele gespielt und in der Gemeinschaftsküche leckere Waffeln gebacken – natürlich mit anschließender Verkostung.\r\n\r\nZiel des Angebots ist es\, Jung und Alt auf unkomplizierte Weise miteinander in Kontakt zu bringen. Die Kinder erleben\, dass ältere Menschen viel Zeit\, Geduld und Lebenserfahrung mitbringen\, während die Seniorinnen und Senioren die frische Energie und Neugier der Kinder genießen. So entsteht ein lebendiger Austausch zwischen den Generationen\, bei dem alle voneinander lernen können.\r\n
URL;VALUE=URI:https://www.unser-ferienprogramm.de/moosthenning/veranstaltung.php?id=307329
SUMMARY:Spielenachmittag für Jung & Alt
DTSTART;TZID=Europe/Berlin:20260805T140000
END:VEVENT


BEGIN:VEVENT
DTEND;TZID=Europe/Berlin:20260812T160000
UID:69eb1da804f591
DTSTAMP:20260424T093712
LOCATION:Tundinger Str. 5\, 84164 Moosthenning (Unterhollerau)
DESCRIPTION:Im Seniorenzentrum Viertel 4 in Moosthenning veranstalten wir heuer einen Spielenachmitag für Jung und Alt. \r\n\r\nDort verbringen die Kinder gemeinsam mit den Bewohnerinnen und Bewohnern einen fröhlichen Nachmittag mit Spielen\, Vorlesen und gemeinsamen Aktionen im Garten.\r\n\r\nIm liebevoll gestalteten Außenbereich kümmern sich Kinder und Seniorinnen und Senioren zusammen um die Hochbeete\, säen\, pflanzen und entdecken wie Gemüse und Kräuter wachsen. Drinnen werden Geschichten vorgelesen\, Gesellschaftsspiele gespielt und in der Gemeinschaftsküche leckere Waffeln gebacken – natürlich mit anschließender Verkostung.\r\n\r\nZiel des Angebots ist es\, Jung und Alt auf unkomplizierte Weise miteinander in Kontakt zu bringen. Die Kinder erleben\, dass ältere Menschen viel Zeit\, Geduld und Lebenserfahrung mitbringen\, während die Seniorinnen und Senioren die frische Energie und Neugier der Kinder genießen. So entsteht ein lebendiger Austausch zwischen den Generationen\, bei dem alle voneinander lernen können.\r\n
URL;VALUE=URI:https://www.unser-ferienprogramm.de/moosthenning/veranstaltung.php?id=307329
SUMMARY:Spielenachmittag für Jung & Alt
DTSTART;TZID=Europe/Berlin:20260812T140000
END:VEVENT

END:VCALENDAR
