BEGIN:VCALENDAR
VERSION:2.0
PRODID:-//hacksw/handcal//NONSGML v1.0//EN
CALSCALE:GREGORIAN
BEGIN:VTIMEZONE
TZID:Europe/Berlin
X-LIC-LOCATION:Europe/Berlin
BEGIN:DAYLIGHT
TZOFFSETFROM:+0100
TZOFFSETTO:+0200
TZNAME:CEST
DTSTART:19700329T020000
RRULE:FREQ=YEARLY;BYDAY=-1SU;BYMONTH=3
END:DAYLIGHT
BEGIN:STANDARD
TZOFFSETFROM:+0200
TZOFFSETTO:+0100
TZNAME:CET
DTSTART:19701025T030000
RRULE:FREQ=YEARLY;BYDAY=-1SU;BYMONTH=10
END:STANDARD
END:VTIMEZONE
BEGIN:VEVENT
DTEND;TZID=Europe/Berlin:20260806T140000
UID:69eb1ddaf0726
DTSTAMP:20260424T093802
LOCATION:Sankt-Anton-Straße 8\, 84130 Dingolfing
DESCRIPTION:Beim Bauen bekommen natürlich alle Kinder Hilfe!\r\nEine eigene Uhr mit einem Qualitäter-Uhrwerk kann man immer brauchen!
URL;VALUE=URI:https://www.unser-ferienprogramm.de/moosthenning/veranstaltung.php?id=303379
SUMMARY:Baue deine eigene Standuhr im TfK-Technikhaus Dingolfing
DTSTART;TZID=Europe/Berlin:20260806T100000
END:VEVENT

END:VCALENDAR
