BEGIN:VCALENDAR
VERSION:2.0
PRODID:-//hacksw/handcal//NONSGML v1.0//EN
CALSCALE:GREGORIAN
BEGIN:VTIMEZONE
TZID:Europe/Berlin
X-LIC-LOCATION:Europe/Berlin
BEGIN:DAYLIGHT
TZOFFSETFROM:+0100
TZOFFSETTO:+0200
TZNAME:CEST
DTSTART:19700329T020000
RRULE:FREQ=YEARLY;BYDAY=-1SU;BYMONTH=3
END:DAYLIGHT
BEGIN:STANDARD
TZOFFSETFROM:+0200
TZOFFSETTO:+0100
TZNAME:CET
DTSTART:19701025T030000
RRULE:FREQ=YEARLY;BYDAY=-1SU;BYMONTH=10
END:STANDARD
END:VTIMEZONE
BEGIN:VEVENT
DTEND;TZID=Europe/Berlin:20260803T110000
UID:69eb1f9477d62
DTSTAMP:20260424T094524
LOCATION:Bäckerei Strohmaier\, Kirchrenring 7\, 84164 Moosthenning (Ottering)
DESCRIPTION:Teig herstellen\, Brezen formen und backen. Im Anschluss Verkostung.
URL;VALUE=URI:https://www.unser-ferienprogramm.de/moosthenning/veranstaltung.php?id=300004
SUMMARY:Brezen backen mit Verkostung
DTSTART;TZID=Europe/Berlin:20260803T090000
END:VEVENT

END:VCALENDAR
