BEGIN:VCALENDAR
VERSION:2.0
PRODID:-//hacksw/handcal//NONSGML v1.0//EN
CALSCALE:GREGORIAN
BEGIN:VTIMEZONE
TZID:Europe/Berlin
X-LIC-LOCATION:Europe/Berlin
BEGIN:DAYLIGHT
TZOFFSETFROM:+0100
TZOFFSETTO:+0200
TZNAME:CEST
DTSTART:19700329T020000
RRULE:FREQ=YEARLY;BYDAY=-1SU;BYMONTH=3
END:DAYLIGHT
BEGIN:STANDARD
TZOFFSETFROM:+0200
TZOFFSETTO:+0100
TZNAME:CET
DTSTART:19701025T030000
RRULE:FREQ=YEARLY;BYDAY=-1SU;BYMONTH=10
END:STANDARD
END:VTIMEZONE
BEGIN:VEVENT
DTEND;TZID=Europe/Berlin:20260802T070000
UID:69eb20ae2454e
DTSTAMP:20260424T095006
LOCATION:Feuerwehrhaus Moosthenning
DESCRIPTION:Verschiedene Aufgaben und Spiele.\r\n\r\nÜbernachtung freiwillig - es kann auch nur an den Aufgaben und Spielen teilgenommen werden.\r\n
URL;VALUE=URI:https://www.unser-ferienprogramm.de/moosthenning/veranstaltung.php?id=278056
SUMMARY:Spiele und Übernachtung im Feuerwehrhaus
DTSTART;TZID=Europe/Berlin:20260801T170000
END:VEVENT

END:VCALENDAR
