BEGIN:VCALENDAR
VERSION:2.0
PRODID:-//hacksw/handcal//NONSGML v1.0//EN
CALSCALE:GREGORIAN
BEGIN:VTIMEZONE
TZID:Europe/Berlin
X-LIC-LOCATION:Europe/Berlin
BEGIN:DAYLIGHT
TZOFFSETFROM:+0100
TZOFFSETTO:+0200
TZNAME:CEST
DTSTART:19700329T020000
RRULE:FREQ=YEARLY;BYDAY=-1SU;BYMONTH=3
END:DAYLIGHT
BEGIN:STANDARD
TZOFFSETFROM:+0200
TZOFFSETTO:+0100
TZNAME:CET
DTSTART:19701025T030000
RRULE:FREQ=YEARLY;BYDAY=-1SU;BYMONTH=10
END:STANDARD
END:VTIMEZONE
BEGIN:VEVENT
DTEND;TZID=Europe/Berlin:20260803T170000
UID:69eb22ab5696a
DTSTAMP:20260424T095835
LOCATION:
DESCRIPTION:Ein spannender\, actionreicher Tag rund um das Thema Fliegen wartet auf dich!\r\n\r\n1. kurze Schulung: Grundlagen des Fliegens - Hier lernst du alles Wichtige\, verständlich erklärt und interaktiv gestaltet.\r\n\r\n2. Flugsimulator Training - Jetzt wird selbst gesteuert: im professionellen Flugsimulator übernimmst du das Steuer und übst Start und Landung\, Kurvenflug\, Orientierung im Cockpit (Natürlich unter Anleitung erfahrener Betreuer).\r\n\r\n3. Zwei echte Rundflüge - Auswahl an Ultraleichtflugzeug\, Motorsegler\, Motorflugzeug oder Segelflugzeug.\r\n\r\n4. Traktor-Geschicklichkeitskurs - hier sind Konzentration und Koordination gefragt (Slalomfahren\, Präzisionsparken\, Geschicklichkeitsübungen).\r\n\r\nAm Ende des Tages erhältst du deinen persönlichen Juniorpilotenschein!\r\n\r\nKostenfreie Speisen und Getränke (Allergien vorab bitte melden) und Sanitäreinrichtungen sind vorhanden.\r\n\r\nSollten die Rundflüge am Veranstaltungstag nicht durchführbar sein\, können diese zu einem zu vereinbarenden Termin per Gutschein nachgeholt werden.\r\n\r\nSollte die 1. Veranstaltung wegen Witterung oder anderen Gründen am Haupttermin den 03.08.2026 nicht durchführbar sein\, würde diese am Ersatztermin den 07.08.2026 nachgeholt werden. Ein weiterer Termin ohne Ersatztermin ist am 10.08.2026
URL;VALUE=URI:https://www.unser-ferienprogramm.de/moosthenning/veranstaltung.php?id=255961
SUMMARY:Juniorpilotenschein - Werde Pilot für einen Tag !
DTSTART;TZID=Europe/Berlin:20260803T094500
END:VEVENT

END:VCALENDAR
