BEGIN:VCALENDAR
VERSION:2.0
PRODID:-//hacksw/handcal//NONSGML v1.0//EN
CALSCALE:GREGORIAN
BEGIN:VTIMEZONE
TZID:Europe/Berlin
X-LIC-LOCATION:Europe/Berlin
BEGIN:DAYLIGHT
TZOFFSETFROM:+0100
TZOFFSETTO:+0200
TZNAME:CEST
DTSTART:19700329T020000
RRULE:FREQ=YEARLY;BYDAY=-1SU;BYMONTH=3
END:DAYLIGHT
BEGIN:STANDARD
TZOFFSETFROM:+0200
TZOFFSETTO:+0100
TZNAME:CET
DTSTART:19701025T030000
RRULE:FREQ=YEARLY;BYDAY=-1SU;BYMONTH=10
END:STANDARD
END:VTIMEZONE
BEGIN:VEVENT
DTEND;TZID=Europe/Berlin:20260808T120000
UID:69eb1f749729b
DTSTAMP:20260424T094452
LOCATION:Sportplatz Ottering
DESCRIPTION:Mit den Kindern Stelzen bauen\, Gehen üben\, Parcour gehen.\r\n\r\nDie Kinder dürfen die Stelzen mit nach Hause nehmen!
URL;VALUE=URI:https://www.unser-ferienprogramm.de/moosthenning/veranstaltung.php?id=159596
SUMMARY:Stelzen bauen
DTSTART;TZID=Europe/Berlin:20260808T103000
END:VEVENT

END:VCALENDAR
