BEGIN:VCALENDAR
VERSION:2.0
PRODID:-//hacksw/handcal//NONSGML v1.0//EN
CALSCALE:GREGORIAN
BEGIN:VTIMEZONE
TZID:Europe/Berlin
X-LIC-LOCATION:Europe/Berlin
BEGIN:DAYLIGHT
TZOFFSETFROM:+0100
TZOFFSETTO:+0200
TZNAME:CEST
DTSTART:19700329T020000
RRULE:FREQ=YEARLY;BYDAY=-1SU;BYMONTH=3
END:DAYLIGHT
BEGIN:STANDARD
TZOFFSETFROM:+0200
TZOFFSETTO:+0100
TZNAME:CET
DTSTART:19701025T030000
RRULE:FREQ=YEARLY;BYDAY=-1SU;BYMONTH=10
END:STANDARD
END:VTIMEZONE
BEGIN:VEVENT
DTEND;TZID=Europe/Berlin:20260619T190000
UID:69ed76a026eb0
DTSTAMP:20260426T042120
LOCATION:Konzenstraße 76\, 41063 Mönchengladbach
DESCRIPTION:Liebe Kinder\, Liebe Eltern\,\r\n\r\nStellt euch vor \, ihr sitzt am Lagerfeuer\, euer Stockbrot bräunt sich aber keiner macht Musik!? Da fehlt soch was! Werde teil der LagerfeuerBand und singt\, spielt Ukulele oder ein Rytmusistrument. Nach ein paar Proben führen wir eure Lieblingssongs bei einem Lagerfeuer-Abend mit euren Fiends und Familien auf.\r\nVorerfahrung ist nicht notwendig aber Spass und ein bisschen Mut!\r\n\r\nAn folgenden Terminen findet die Proben immer von 15:30- 17:00  auf dem Abenteuerspielplatz Konzenstraße statt:\r\n\r\nIm MAI: 04.05 \,08.05\, 11.05\, 18.05\,29.05\r\nIm JUNI: 01.06\,08.06\,12.06\,15.06\r\nAm 19.06 ist dann von 19:00 -20:00 ein Lagerfeuerkonzert geplant!\r\n\r\n\r\n
URL;VALUE=URI:https://www.unser-ferienprogramm.de/moenchengladbach/veranstaltung.php?id=317005
SUMMARY:Kulturrucksack- LagerfeuerBand
DTSTART;TZID=Europe/Berlin:20260504T153000
END:VEVENT

END:VCALENDAR
