BEGIN:VCALENDAR
VERSION:2.0
PRODID:-//hacksw/handcal//NONSGML v1.0//EN
CALSCALE:GREGORIAN
BEGIN:VTIMEZONE
TZID:Europe/Berlin
X-LIC-LOCATION:Europe/Berlin
BEGIN:DAYLIGHT
TZOFFSETFROM:+0100
TZOFFSETTO:+0200
TZNAME:CEST
DTSTART:19700329T020000
RRULE:FREQ=YEARLY;BYDAY=-1SU;BYMONTH=3
END:DAYLIGHT
BEGIN:STANDARD
TZOFFSETFROM:+0200
TZOFFSETTO:+0100
TZNAME:CET
DTSTART:19701025T030000
RRULE:FREQ=YEARLY;BYDAY=-1SU;BYMONTH=10
END:STANDARD
END:VTIMEZONE
BEGIN:VEVENT
DTEND;TZID=Europe/Berlin:20260605T150000
UID:69ea4008bcf77
DTSTAMP:20260423T175136
LOCATION:Regensburg
DESCRIPTION:Girls* Day!\r\nDer erste Girls* Day findet in Regensburg statt. \r\nEure Jugendpflegerin Marie zeigt euch das Frauengesundheitszentrum in Regensburg\, wo ihr einen Überblick über die Kurse und Angebote im Allgemeinen bekommt. Danach bummeln wir durch die Stadt und euch werden coole Second-Hand Läden gezeigt. Zum Abschluss gehen wir noch gemeinsam Pizza oder Burger essen. \r\n\r\nWer kann dabei sein?\r\nMädchen und junge Frauen (auch divers) im Alter von 12-17 Jahren.\r\n\r\nKosten: \r\nDie Veranstaltung ist von Seiten des Veranstalters kostenlos. Bitte aber genug Geld fürs Essen gehen und ggfls. Shoppen mitgeben. Das Geld wird von den Teilnehmerinnen* selbst verwaltet. \r\n\r\n\r\nSie erhalten nach erfolgreicher Anmeldung 14 Tage vor der Veranstaltung den Elternbrief mit allen weiteren wichtigen Informationen. 
URL;VALUE=URI:https://www.unser-ferienprogramm.de/mintraching/veranstaltung.php?id=310976
SUMMARY:Girls* Day in Regensburg
DTSTART;TZID=Europe/Berlin:20260605T100000
END:VEVENT

END:VCALENDAR
