BEGIN:VCALENDAR
VERSION:2.0
PRODID:-//hacksw/handcal//NONSGML v1.0//EN
CALSCALE:GREGORIAN
BEGIN:VTIMEZONE
TZID:Europe/Berlin
X-LIC-LOCATION:Europe/Berlin
BEGIN:DAYLIGHT
TZOFFSETFROM:+0100
TZOFFSETTO:+0200
TZNAME:CEST
DTSTART:19700329T020000
RRULE:FREQ=YEARLY;BYDAY=-1SU;BYMONTH=3
END:DAYLIGHT
BEGIN:STANDARD
TZOFFSETFROM:+0200
TZOFFSETTO:+0100
TZNAME:CET
DTSTART:19701025T030000
RRULE:FREQ=YEARLY;BYDAY=-1SU;BYMONTH=10
END:STANDARD
END:VTIMEZONE
BEGIN:VEVENT
DTEND;TZID=Europe/Berlin:20260725T000000
UID:69ea3ceea3b63
DTSTAMP:20260423T173822
LOCATION:München
DESCRIPTION:Wie sieht es in den Büros des Bayerischen Rundfunks aus? Was geschieht im Hintergrund einer Radiosendung? Wo werden tagesaktuelle Nachrichten vorbereitet?\r\nAm 25.07. begibt sich die KEB Schwandorf auf Studienfahrt nach München und findet das heraus. Bei einer Führung gibt es Gelegenheit den BR-Campus München-Freimann zu entdecken. Der Campus bildet das journalistische Herz des Bayerischen Rundfunks und ist die letzten Jahre kontinuierlich ausgebaut worden. In naher Zukunft sollen nahezu alle Bereiche des BR in Freimann beheimatet sein. Die beste Zeit um die historische Veränderung hautnah mitzuerleben. \r\n\r\nDatum: Tagesfahrt am 25.07.2026. Abfahrt am frühen Vormittag. Genauere Reisedaten werden online bekanntgegeben.\r\n\r\nGebühr: Selbstkostenbeitrag zu Fahrtkosten. Genaueres wird mit Reisedaten bekanntgegeben. \r\n\r\nHinweise: Genauere Angaben zum Tagesplan werden frühzeitig auf www.keb-schwandorf.de bekannt gegeben. Anmeldung wird mind. einen Monat vor Tag der Studienfahrt freigeschaltet. Haben Sie Fragen zur Fahrt oder möchten Sie sich im Voraus einen Platz sichern? Schreiben Sie uns gerne eine Mail: info@keb-schwandorf.de.\r\n\r\nAnmeldung: Online-Anmeldung wird mind. einen Monat vor Tag der Studienfahrt freigeschaltet: www.keb-schwandorf.de.\r\n\r\n
URL;VALUE=URI:https://www.unser-ferienprogramm.de/maxhuette-haidhof/veranstaltung.php?id=307433
SUMMARY:Der Bayerische Rundfunk hinter den Kulissen (KEB Schwandorf)
DTSTART;TZID=Europe/Berlin:20260725T000000
END:VEVENT

END:VCALENDAR
