BEGIN:VCALENDAR
VERSION:2.0
PRODID:-//hacksw/handcal//NONSGML v1.0//EN
CALSCALE:GREGORIAN
BEGIN:VTIMEZONE
TZID:Europe/Berlin
X-LIC-LOCATION:Europe/Berlin
BEGIN:DAYLIGHT
TZOFFSETFROM:+0100
TZOFFSETTO:+0200
TZNAME:CEST
DTSTART:19700329T020000
RRULE:FREQ=YEARLY;BYDAY=-1SU;BYMONTH=3
END:DAYLIGHT
BEGIN:STANDARD
TZOFFSETFROM:+0200
TZOFFSETTO:+0100
TZNAME:CET
DTSTART:19701025T030000
RRULE:FREQ=YEARLY;BYDAY=-1SU;BYMONTH=10
END:STANDARD
END:VTIMEZONE
BEGIN:VEVENT
DTEND;TZID=Europe/Berlin:20260521T163000
UID:69ea3ca6bc153
DTSTAMP:20260423T173710
LOCATION:
DESCRIPTION:Die Stadtbücherei sucht für euch die aktuellsten und schönsten Kinderfilme aus\, die wir zusammen anschauen. In der Stadtbücherei hängt eine Liste aus\, in der ihr nachlesen könnt\, wann welcher Film läuft. \r\nGetränke können selbst mitgebracht oder im MGH gekauft werden.
URL;VALUE=URI:https://www.unser-ferienprogramm.de/maxhuette-haidhof/veranstaltung.php?id=147856
SUMMARY:Kino für Kids
DTSTART;TZID=Europe/Berlin:20260521T163000
END:VEVENT


BEGIN:VEVENT
DTEND;TZID=Europe/Berlin:20260618T163000
UID:69ea3ca6bc1711
DTSTAMP:20260423T173710
LOCATION:
DESCRIPTION:Die Stadtbücherei sucht für euch die aktuellsten und schönsten Kinderfilme aus\, die wir zusammen anschauen. In der Stadtbücherei hängt eine Liste aus\, in der ihr nachlesen könnt\, wann welcher Film läuft. \r\nGetränke können selbst mitgebracht oder im MGH gekauft werden.
URL;VALUE=URI:https://www.unser-ferienprogramm.de/maxhuette-haidhof/veranstaltung.php?id=147856
SUMMARY:Kino für Kids
DTSTART;TZID=Europe/Berlin:20260618T163000
END:VEVENT


BEGIN:VEVENT
DTEND;TZID=Europe/Berlin:20260716T163000
UID:69ea3ca6bc17d2
DTSTAMP:20260423T173710
LOCATION:
DESCRIPTION:Die Stadtbücherei sucht für euch die aktuellsten und schönsten Kinderfilme aus\, die wir zusammen anschauen. In der Stadtbücherei hängt eine Liste aus\, in der ihr nachlesen könnt\, wann welcher Film läuft. \r\nGetränke können selbst mitgebracht oder im MGH gekauft werden.
URL;VALUE=URI:https://www.unser-ferienprogramm.de/maxhuette-haidhof/veranstaltung.php?id=147856
SUMMARY:Kino für Kids
DTSTART;TZID=Europe/Berlin:20260716T163000
END:VEVENT


BEGIN:VEVENT
DTEND;TZID=Europe/Berlin:20260917T163000
UID:69ea3ca6bc1883
DTSTAMP:20260423T173710
LOCATION:
DESCRIPTION:Die Stadtbücherei sucht für euch die aktuellsten und schönsten Kinderfilme aus\, die wir zusammen anschauen. In der Stadtbücherei hängt eine Liste aus\, in der ihr nachlesen könnt\, wann welcher Film läuft. \r\nGetränke können selbst mitgebracht oder im MGH gekauft werden.
URL;VALUE=URI:https://www.unser-ferienprogramm.de/maxhuette-haidhof/veranstaltung.php?id=147856
SUMMARY:Kino für Kids
DTSTART;TZID=Europe/Berlin:20260917T163000
END:VEVENT

END:VCALENDAR
