BEGIN:VCALENDAR
VERSION:2.0
PRODID:-//hacksw/handcal//NONSGML v1.0//EN
CALSCALE:GREGORIAN
BEGIN:VTIMEZONE
TZID:Europe/Berlin
X-LIC-LOCATION:Europe/Berlin
BEGIN:DAYLIGHT
TZOFFSETFROM:+0100
TZOFFSETTO:+0200
TZNAME:CEST
DTSTART:19700329T020000
RRULE:FREQ=YEARLY;BYDAY=-1SU;BYMONTH=3
END:DAYLIGHT
BEGIN:STANDARD
TZOFFSETFROM:+0200
TZOFFSETTO:+0100
TZNAME:CET
DTSTART:19701025T030000
RRULE:FREQ=YEARLY;BYDAY=-1SU;BYMONTH=10
END:STANDARD
END:VTIMEZONE
BEGIN:VEVENT
DTEND;TZID=Europe/Berlin:20250806T113000
UID:69e7542d79685
DTSTAMP:20260421T124045
LOCATION:Gasthof Adler in Frechenrieden
DESCRIPTION:Kochen in einer Profiküche - Lerne eine Profiküche und das Handwerk des Kochens kennen. Wir werden zusammen ein tolles Gericht zaubern und anschließend verspeisen.\r\nEltern sind sehr gerne eingeladen in der Gaststätte bei Kaffee und Getränken zu verweilen.
URL;VALUE=URI:https://www.unser-ferienprogramm.de/markt-rettenbach/veranstaltung.php?id=282274
SUMMARY:Kinderkochkurs (Kurs 1)
DTSTART;TZID=Europe/Berlin:20250806T100000
END:VEVENT

END:VCALENDAR
