BEGIN:VCALENDAR
VERSION:2.0
PRODID:-//hacksw/handcal//NONSGML v1.0//EN
CALSCALE:GREGORIAN
BEGIN:VTIMEZONE
TZID:Europe/Berlin
X-LIC-LOCATION:Europe/Berlin
BEGIN:DAYLIGHT
TZOFFSETFROM:+0100
TZOFFSETTO:+0200
TZNAME:CEST
DTSTART:19700329T020000
RRULE:FREQ=YEARLY;BYDAY=-1SU;BYMONTH=3
END:DAYLIGHT
BEGIN:STANDARD
TZOFFSETFROM:+0200
TZOFFSETTO:+0100
TZNAME:CET
DTSTART:19701025T030000
RRULE:FREQ=YEARLY;BYDAY=-1SU;BYMONTH=10
END:STANDARD
END:VTIMEZONE
BEGIN:VEVENT
DTEND;TZID=Europe/Berlin:20250808T120000
UID:69e73ac523988
DTSTAMP:20260421T105221
LOCATION:Tennisplatz im Rotmoos
DESCRIPTION:Wir bieten euch ein spielerischen Einstieg in den Tennissport. Der Spaß steht an erster Stelle. Ihr habt die Gelegenheit Schläger und Ball einfach mal auszuprobieren.\r\nBei schlechtem Wetter fahren wir gemeinsam in die Sportwelt nach Ottobeuren und spielen da.
URL;VALUE=URI:https://www.unser-ferienprogramm.de/markt-rettenbach/veranstaltung.php?id=282270
SUMMARY:Tennis macht Spaß (Kurs 1)
DTSTART;TZID=Europe/Berlin:20250808T100000
END:VEVENT

END:VCALENDAR
