BEGIN:VCALENDAR
VERSION:2.0
PRODID:-//hacksw/handcal//NONSGML v1.0//EN
CALSCALE:GREGORIAN
BEGIN:VTIMEZONE
TZID:Europe/Berlin
X-LIC-LOCATION:Europe/Berlin
BEGIN:DAYLIGHT
TZOFFSETFROM:+0100
TZOFFSETTO:+0200
TZNAME:CEST
DTSTART:19700329T020000
RRULE:FREQ=YEARLY;BYDAY=-1SU;BYMONTH=3
END:DAYLIGHT
BEGIN:STANDARD
TZOFFSETFROM:+0200
TZOFFSETTO:+0100
TZNAME:CET
DTSTART:19701025T030000
RRULE:FREQ=YEARLY;BYDAY=-1SU;BYMONTH=10
END:STANDARD
END:VTIMEZONE
BEGIN:VEVENT
DTEND;TZID=Europe/Berlin:20250806T124500
UID:69e73af1e2add
DTSTAMP:20260421T105305
LOCATION:Spielplatz Markt Rettenbach
DESCRIPTION:Wir fahren nach Eschers zum Eselhof Allinger. Dort striegeln wir unsere Esel und machen uns dann mit den Esel auf zu einer etwa einstündigen Wanderung. Danach können die Esel mit den mitgebrachten Gelben Rüben gefüttert und ausgiebig gestreichelt werden. Und auch wir werden uns mit einem Eis aus dem Eisautomaten stärken.\r\nFür die Fahrt nach Eschers brauchen wir 2-3 Eltern\, die uns fahren und begleiten. Bitte mitteilen\, wem das möglich wäre.\r\n
URL;VALUE=URI:https://www.unser-ferienprogramm.de/markt-rettenbach/veranstaltung.php?id=282269
SUMMARY: Eselwanderung 
DTSTART;TZID=Europe/Berlin:20250806T093000
END:VEVENT

END:VCALENDAR
