BEGIN:VCALENDAR
VERSION:2.0
PRODID:-//hacksw/handcal//NONSGML v1.0//EN
CALSCALE:GREGORIAN
BEGIN:VTIMEZONE
TZID:Europe/Berlin
X-LIC-LOCATION:Europe/Berlin
BEGIN:DAYLIGHT
TZOFFSETFROM:+0100
TZOFFSETTO:+0200
TZNAME:CEST
DTSTART:19700329T020000
RRULE:FREQ=YEARLY;BYDAY=-1SU;BYMONTH=3
END:DAYLIGHT
BEGIN:STANDARD
TZOFFSETFROM:+0200
TZOFFSETTO:+0100
TZNAME:CET
DTSTART:19701025T030000
RRULE:FREQ=YEARLY;BYDAY=-1SU;BYMONTH=10
END:STANDARD
END:VTIMEZONE
BEGIN:VEVENT
DTEND;TZID=Europe/Berlin:20250807T103000
UID:69e73edfcd593
DTSTAMP:20260421T110951
LOCATION:Dorfgemeinschaftshaus Engetried
DESCRIPTION:Wer mag es nicht\, tolle Tiere und Dinge zu formen oder seiner Phantasie beim Modellieren freien Lauf zu lassen? Deiner Kreativität und deinem Einfallsreichtum sind keine Grenzen gesetzt! Ganz nebenbei werden deine Finger trainiert und deine räumliche Vorstellungskraft gefördert. Wir verwenden ungiftige Knete auf Bienenwachsbasis und lufttrocknende Modelliermasse.
URL;VALUE=URI:https://www.unser-ferienprogramm.de/markt-rettenbach/veranstaltung.php?id=275920
SUMMARY:Kneten und Modellieren
DTSTART;TZID=Europe/Berlin:20250807T090000
END:VEVENT

END:VCALENDAR
